BEGIN:VCALENDAR
VERSION:2.0
PRODID:-//ChamberMaster//Event Calendar 2.0//EN
METHOD:PUBLISH
X-PUBLISHED-TTL:P3D
REFRESH-INTERVAL:P3D
CALSCALE:GREGORIAN
BEGIN:VEVENT
DTSTART:20180212T120000Z
DTEND:20180213T020000Z
X-MICROSOFT-CDO-ALLDAYEVENT:FALSE
SUMMARY:Artisans Facebook Live Sale
DESCRIPTION:Join us on Monday\, February 12 at 7pm for our monthly live sale!
X-ALT-DESC;FMTTYPE=text/html:<span style="color:rgb(75\, 79\, 86)\; font-family:sf optimized\,system-ui\,-apple-system\,blinkmacsystemfont\,.sfnstext-regular\,sans-serif\; font-size:14px">Join us on Monday\, February 12 at 7pm for our monthly live sale!</span>
LOCATION:Facebook: https://www.facebook.com/ArtisansGville/
UID:e.840.8715
SEQUENCE:3
DTSTAMP:20260423T015525Z
URL:https://business.greenvillenc.org/events/details/artisans-facebook-live-sale-8715
END:VEVENT

END:VCALENDAR
