BEGIN:VCALENDAR
VERSION:2.0
PRODID:-//ChamberMaster//Event Calendar 2.0//EN
METHOD:PUBLISH
X-PUBLISHED-TTL:P3D
REFRESH-INTERVAL:P3D
CALSCALE:GREGORIAN
BEGIN:VEVENT
DTSTART:20170126T230000Z
DTEND:20170127T010000Z
X-MICROSOFT-CDO-ALLDAYEVENT:FALSE
SUMMARY:Artisans DIY Tablescape Wood Box Decor Class
DESCRIPTION:If you haven't already heard\, we are so excited to announce our DIY classes starting in the new year! Our first class is January 26 and registration is now open! Call 252-353-8008 today to sign up!\n\n\n\nYou will choose your color of your wooden box\, mason jars\, and phrase. Our DIY instructor will show you how to paint\, distress\, and stencil your phrase.
X-ALT-DESC;FMTTYPE=text/html:<span style="color:rgb(29\, 33\, 41)\; font-family:san francisco\,-apple-system\,blinkmacsystemfont\,.sfnstext-regular\,sans-serif\; font-size:14px">If you haven&#39\;t already heard\, we are so excited to announce our DIY classes starting in the new year! Our first class is January 26 and registration is now open! Call 252-353-8008 today to sign up!<br />\n<br />\nYou will choose your color of your wooden box\, mason jars\, and phrase. Our DIY instructor will show you how to paint\, distress\, and stencil your phrase.&nbsp\;</span>
LOCATION:Artisans of Greenville 150 Plaza Drive Greenville\, NC 27858
UID:e.840.7716
SEQUENCE:3
DTSTAMP:20260423T211216Z
URL:https://business.greenvillenc.org/events/details/artisans-diy-tablescape-wood-box-decor-class-7716
END:VEVENT

END:VCALENDAR
