BEGIN:VCALENDAR
VERSION:2.0
PRODID:-//ChamberMaster//Event Calendar 2.0//EN
METHOD:PUBLISH
X-PUBLISHED-TTL:P3D
REFRESH-INTERVAL:P3D
CALSCALE:GREGORIAN
BEGIN:VEVENT
DTSTART:20170223T230000Z
DTEND:20170224T010000Z
X-MICROSOFT-CDO-ALLDAYEVENT:FALSE
SUMMARY:Artisans DIY Modern Calligraphy Course: Part 3 Advanced
DESCRIPTION:The final class of the series will be dedicated to showing students how to create a finished product. Each student will be able to choose from cards\, 8x10 cardstock\, or bookmarks to hand letter and take home.\nCall Artisans at (252) 353-8008 to sign up today classes will fill up quickly.
X-ALT-DESC;FMTTYPE=text/html:<p><span style="font-size:14px"><span style="font-family:georgia\,times new roman\,bitstream charter\,times\,serif">The final class of the series will be dedicated to showing students how to create a finished product. Each student will be able to choose from cards\, 8x10 cardstock\, or bookmarks to hand letter and take home.</span></span></p>\n<span style="font-size:14px">Call Artisans at (252) 353-8008 to sign up today classes will fill up quickly.&nbsp\;</span>
LOCATION:Artisans of Greenville 150 Plaza Drive Greenville\, NC 27858
UID:e.840.7719
SEQUENCE:3
DTSTAMP:20260423T193217Z
URL:https://business.greenvillenc.org/events/details/artisans-diy-modern-calligraphy-course-part-3-advanced-7719
END:VEVENT

END:VCALENDAR
