BEGIN:VCALENDAR
VERSION:2.0
PRODID:-//ChamberMaster//Event Calendar 2.0//EN
METHOD:PUBLISH
X-PUBLISHED-TTL:P3D
REFRESH-INTERVAL:P3D
CALSCALE:GREGORIAN
BEGIN:VEVENT
DTSTART:20170216T230000Z
DTEND:20170217T010000Z
X-MICROSOFT-CDO-ALLDAYEVENT:FALSE
SUMMARY:Artisans DIY Modern Calligraphy Course: Part 2 Intermediate
DESCRIPTION:This class is the second in our three-part series. During this class students will work on connecting letters to make words and phrases. Students will also learn about spacing between letters\, and how to get the best results when lettering.\nCall Artisans at (252) 353-8008 to sign up today classes will fill up quickly.
X-ALT-DESC;FMTTYPE=text/html:<p><span style="font-family:georgia\,times new roman\,bitstream charter\,times\,serif\; font-size:16px">This class is the second in our three-part series. During this class students will work on connecting letters to make words and phrases. Students will also learn about spacing between letters\, and how to get the best results when lettering.</span></p>\nCall Artisans at (252) 353-8008 to sign up today classes will fill up quickly.&nbsp\;
LOCATION:Artisans of Greenville 150 Plaza Drive Greenville\, NC 27858
UID:e.840.7718
SEQUENCE:3
DTSTAMP:20260423T193111Z
URL:https://business.greenvillenc.org/events/details/artisans-diy-modern-calligraphy-course-part-2-intermediate-7718
END:VEVENT

END:VCALENDAR
