BEGIN:VCALENDAR
VERSION:2.0
PRODID:-//ChamberMaster//Event Calendar 2.0//EN
METHOD:PUBLISH
X-PUBLISHED-TTL:P3D
REFRESH-INTERVAL:P3D
CALSCALE:GREGORIAN
BEGIN:VEVENT
DTSTART:20170209T230000Z
DTEND:20170210T010000Z
X-MICROSOFT-CDO-ALLDAYEVENT:FALSE
SUMMARY:Artisans DIY Modern Calligraphy Course: Part 1 Beginner
DESCRIPTION:Want to learn the basics of the ever so popular modern calligraphy/hand-lettering? Artisans wants to help you learn how to create beautiful hand-lettered projects. During this class students will learn the basics of modern calligraphy and will be given hand lettering practice sheets. We will spend the class practicing\, tracing\, and thickening down strokes\, and focusing on each letter individually. Let Artisans help you develop your own unique lettering style.\nCall Artisans at (252) 353-8008 to sign up today classes will fill up quickly.
X-ALT-DESC;FMTTYPE=text/html:<p>Want to learn the basics of the ever so popular modern calligraphy/hand-lettering? Artisans wants to help you&nbsp\;learn how to create beautiful hand-lettered projects.&nbsp\;During this class students will learn the basics of modern calligraphy and will be given hand lettering practice sheets. We will spend the class practicing\, tracing\, and thickening down strokes\, and focusing on each letter individually. Let Artisans help you develop your own unique lettering style.</p>\nCall Artisans at (252) 353-8008 to sign up today classes will fill up quickly.&nbsp\;
LOCATION:Artisans of Greenville 150 Plaza Drive Greenville\, NC 27858
UID:e.840.7717
SEQUENCE:3
DTSTAMP:20260423T210849Z
URL:https://business.greenvillenc.org/events/details/artisans-diy-modern-calligraphy-course-part-1-beginner-7717
END:VEVENT

END:VCALENDAR
