BEGIN:VCALENDAR
VERSION:2.0
PRODID:-//ChamberMaster//Event Calendar 2.0//EN
METHOD:PUBLISH
X-PUBLISHED-TTL:P3D
REFRESH-INTERVAL:P3D
CALSCALE:GREGORIAN
BEGIN:VEVENT
DTSTART;VALUE=DATE:20180720
DTEND;VALUE=DATE:20180722
TRANSP:TRANSPARENT
X-MICROSOFT-CDO-ALLDAYEVENT:TRUE
SUMMARY:AR Workshop Greenville-DIY Across America with HGTV Magazine
DESCRIPTION:New Designs for our #hometownlove weekend!  Be the first to take home newly designed projects (and some serious free swag) during our HGTV Magazine DIY Across America Weekend July 20-21!!
X-ALT-DESC;FMTTYPE=text/html:New Designs for our #hometownlove weekend!&nbsp\; Be the first to take home newly designed projects (and some serious free swag) during our HGTV Magazine DIY Across America Weekend July 20-21!!
LOCATION:AR Workshop Greenville NC 809 Red Banks Rd
UID:e.840.8871
SEQUENCE:3
DTSTAMP:20260421T062234Z
URL:https://business.greenvillenc.org/events/details/ar-workshop-greenville-diy-across-america-with-hgtv-magazine-8871
END:VEVENT

END:VCALENDAR
