BEGIN:VCALENDAR
VERSION:2.0
PRODID:-//ChamberMaster//Event Calendar 2.0//EN
METHOD:PUBLISH
X-PUBLISHED-TTL:P3D
REFRESH-INTERVAL:P3D
CALSCALE:GREGORIAN
BEGIN:VEVENT
DTSTART:20180517T220000Z
DTEND:20180518T010000Z
X-MICROSOFT-CDO-ALLDAYEVENT:FALSE
SUMMARY:AR Workshop Grand Opening Event
DESCRIPTION:Come join us to celebrate the GRAND OPENING of AR Workshop Greenville! Participate in fabulous giveaways\, raffles\, and promotions.\n\nEnjoy sips and sweets while enjoying a free make-and-take project! Tour the workshop space and check out our sample projects. Shop our retail boutique featuring home decor gifts and accessories.\n\nBe sure to register-- to enter to win a FREE workshop!\n\nWe look forward to meeting you soon!
X-ALT-DESC;FMTTYPE=text/html:<span style="color:rgb(29\, 33\, 41)\; font-family:system-ui\,-apple-system\,system-ui\,.sfnstext-regular\,sans-serif\; font-size:14px">Come join us to celebrate the GRAND OPENING of AR Workshop Greenville! Participate in fabulous giveaways\, raffles\, and promotions.</span><br />\n<span style="color:rgb(29\, 33\, 41)\; font-family:system-ui\,-apple-system\,system-ui\,.sfnstext-regular\,sans-serif\; font-size:14px">Enjoy sips and sweets while enjoying a free make-and-take project! Tour the workshop space and check out our sample projects. Shop our retail boutique featuring home decor gifts and accessories.</span><br />\n<span style="color:rgb(29\, 33\, 41)\; font-family:system-ui\,-apple-system\,system-ui\,.sfnstext-regular\,sans-serif\; font-size:14px">Be sure to register--&gt\;to enter to win a FREE workshop!</span><br />\n<span style="color:rgb(29\, 33\, 41)\; font-family:system-ui\,-apple-system\,system-ui\,.sfnstext-regular\,sans-serif\; font-size:14px">We look forward to meeting you soon!</span>
LOCATION:AR Workshop Greenville 809 Red Banks Rd
UID:e.840.8780
SEQUENCE:3
DTSTAMP:20260421T090004Z
URL:https://business.greenvillenc.org/events/details/ar-workshop-grand-opening-event-8780
END:VEVENT

END:VCALENDAR
