BEGIN:VCALENDAR
VERSION:2.0
PRODID:-//ChamberMaster//Event Calendar 2.0//EN
METHOD:PUBLISH
X-PUBLISHED-TTL:P3D
REFRESH-INTERVAL:P3D
CALSCALE:GREGORIAN
BEGIN:VEVENT
DTSTART:20180502T223000Z
DTEND:20180503T000000Z
X-MICROSOFT-CDO-ALLDAYEVENT:FALSE
SUMMARY:Applying to College - Insider Tips and Tricks - FREE SEMINAR
DESCRIPTION:LISA MULLIGAN\n\nMPP\, ED.M\n\nAPPLYING TO COLLEGE\n\nPARENTS OF FRESHMEN\, SOPHOMORES\, & JUNIORS\n\nJOIN US FOR A FREE SEMINAR!\n\nWEDNESDAY\, MAY 2ND\n\n6:30   8 P.M.\n\nSHEPPARD MEMORIAL LIBRARY\n\nMEETING ROOM A\n\n530 EVANS STREET\n\n[ INSIDER TIPS & TRICKS ]\n\nThe college application process...Simplified.\n\nThis meeting is neither sponsored by nor endorsed by Sheppard Memorial Library.
X-ALT-DESC;FMTTYPE=text/html:LISA MULLIGAN<br />\nMPP\, ED.M<br />\nAPPLYING TO COLLEGE<br />\nPARENTS OF FRESHMEN\, SOPHOMORES\, &amp\; JUNIORS<br />\nJOIN US FOR A FREE SEMINAR!<br />\nWEDNESDAY\, MAY 2ND<br />\n6:30 &mdash\; 8 P.M.<br />\nSHEPPARD MEMORIAL LIBRARY<br />\nMEETING ROOM A<br />\n530 EVANS STREET<br />\n[ INSIDER TIPS &amp\; TRICKS ]<br />\nThe college application process...Simplified.<br />\n<strong><em>This meeting is neither sponsored by nor endorsed by Sheppard Memorial Library.</em></strong>
LOCATION:SHEPPARD MEMORIAL LIBRARY MEETING ROOM A
UID:e.840.8747
SEQUENCE:3
DTSTAMP:20260421T090712Z
URL:https://business.greenvillenc.org/events/details/applying-to-college-insider-tips-and-tricks-free-seminar-8747
END:VEVENT

END:VCALENDAR
