BEGIN:VCALENDAR
VERSION:2.0
PRODID:-//ChamberMaster//Event Calendar 2.0//EN
METHOD:PUBLISH
X-PUBLISHED-TTL:P3D
REFRESH-INTERVAL:P3D
CALSCALE:GREGORIAN
BEGIN:VEVENT
DTSTART:20200917T040000Z
DTEND:20200921T155500Z
X-MICROSOFT-CDO-ALLDAYEVENT:FALSE
SUMMARY:APPLY NOW! Suddenlink & Coalition to Back Black Business Grants\, Leadership Development and More
DESCRIPTION:Suddenlink has joined the Coalition to Back Black Businesses  a multi-year initiative to support the Black small business community. \n\n \n\nThe initiative will provide grants\, leadership development and business mentoring and other development opportunities to empower Black-owned small businesses in U.S. communities that have long been struggling with economic growth.\n\n\n\nThe pandemic has disproportionately impacted the Black small business community. \n\n\n\nTo express your interest\, you will only need to complete our streamlined application form below before 11:59 PM EDT on September 21\, 2020.\nAfter September 21\, each applicant will be computer-assigned a random number\, and 280 businesses will be selected as finalists. \nInterested business owners can visit http://webackblackbusinesses.com to check eligibility and to apply. \n\n \n\nWe're proud to partner with American Express\, the National Black Chamber of Commerce\, National Business League\, U.S. Black Chambers\, Inc.\, Walker's Legacy\, and the U.S. Chamber of Commerce Foundation to help the Black business community begin to emerge from this crisis stronger than ever.\n\n \n\nJoining the Coalition to Back Black Businesses is the most recent of our efforts to help small businesses recover from the impacts of COVID-19. Earlier this year\, we partnered with the U.S. Chamber of Commerce Foundation to launch the Save Small Business Fund to provide $5000 cash grants to small businesses.
X-ALT-DESC;FMTTYPE=text/html:<span style="color:black"><span style="font-family:arial\,sans-serif"><span style="font-size:10.0pt">Suddenlink has joined the&nbsp\;</span></span></span><a href="http://www.webackblackbusinesses.com/"><span style="color:#044A91"><span style="font-family:arial\,sans-serif"><span style="font-size:10.0pt">Coalition to Back Black Businesses</span></span></span></a>&nbsp\;<span style="color:black"><span style="font-family:arial\,sans-serif"><span style="font-size:10.0pt">&mdash\;a multi-year initiative to support the Black small business community.</span></span></span>&nbsp\;<br />\n&nbsp\;<br />\n<span style="color:black"><span style="font-family:arial\,sans-serif"><span style="font-size:10.0pt">The initiative will provide grants\, leadership development and business mentoring and other development opportunities to empower Black-owned small businesses in U.S. communities that have long been struggling with economic growth.</span></span></span><br />\n<br />\n<span style="color:black"><span style="font-family:arial\,sans-serif"><span style="font-size:10.0pt">The pandemic has disproportionately impacted the Black small business community.</span></span></span>&nbsp\;<br />\n<br />\nTo express your interest\, you will only need to complete our streamlined application form below before 11:59 PM EDT on September 21\, 2020.\n<p>After September 21\, each applicant will be computer-assigned a random number\, and 280 businesses will be selected as finalists.&nbsp\;</p>\n<span style="font-family:arial\,sans-serif"><span style="font-size:10pt">Interested business owners can visit&nbsp\;<a href="http://webackblackbusinesses.com">http://webackblackbusinesses.com</a>&nbsp\;</span></span><span style="color:black"><span style="font-family:arial\,sans-serif"><span style="font-size:10pt">to check eligibility and to apply.&nbsp\;</span></span></span><br />\n&nbsp\;<br />\n<span style="color:black"><span style="font-family:arial\,sans-serif"><span style="font-size:10.0pt">We&rsquo\;re proud to partner with American</span></span></span>&nbsp\;<span style="color:black"><span style="font-family:arial\,sans-serif"><span style="font-size:10.0pt">Express\, the National Black Chamber of Commerce\, National Business League\, U.S. Black Chambers\, Inc.\, Walker&rsquo\;s Legacy\, and the U.S. Chamber of Commerce Foundation to help</span></span></span>&nbsp\;<span style="color:black"><span style="font-family:arial\,sans-serif"><span style="font-size:10.0pt">the Black business community begin to emerge from this crisis stronger than ever.</span></span></span><br />\n&nbsp\;<br />\n<span style="color:black"><span style="font-family:arial\,sans-serif"><span style="font-size:10.0pt">Joining the Coalition to Back Black Businesses is the most recent of our efforts to help small businesses recover from the impacts of COVID-19. Earlier this year\, we partnered with the U.S. Chamber of Commerce Foundation to launch the Save</span></span></span>&nbsp\;<a href="https://savesmallbusiness.com/"><span style="color:#044A91"><span style="font-family:arial\,sans-serif"><span style="font-size:10.0pt">Small Business Fund</span></span></span></a>&nbsp\;<span style="color:black"><span style="font-family:arial\,sans-serif"><span style="font-size:10.0pt">to provide $5000 cash grants to small businesses.&nbsp\;</span></span></span>
LOCATION:APPLY NOW!
UID:e.840.11442
SEQUENCE:3
DTSTAMP:20260419T163339Z
URL:https://business.greenvillenc.org/events/details/apply-now-suddenlink-coalition-to-back-black-business-grants-leadership-development-and-more-11442
END:VEVENT

END:VCALENDAR
