BEGIN:VCALENDAR
VERSION:2.0
PRODID:-//ChamberMaster//Event Calendar 2.0//EN
METHOD:PUBLISH
X-PUBLISHED-TTL:P3D
REFRESH-INTERVAL:P3D
CALSCALE:GREGORIAN
BEGIN:VEVENT
DTSTART:20171026T193000Z
DTEND:20171027T000000Z
X-MICROSOFT-CDO-ALLDAYEVENT:FALSE
SUMMARY:Annual Saint Peter Catholic School Halloween Carnival
DESCRIPTION:Join the fun at the Annual Saint Peter Catholic School Halloween Carnival! Parents and kids can play carnival games\, buy goods at the Country Store\, get food from local restaurants\, participate in the cake walk and inflatables\, take a chance on raffle baskets\, and get spooked on the Haunted Trail! There are pumpkins to paint\, storybook princesses to meet\, and Sweet Pets to hold. There is something for everyone!
X-ALT-DESC;FMTTYPE=text/html:Join the fun at the Annual Saint Peter Catholic School Halloween Carnival! Parents and kids can play carnival games\, buy goods at the Country Store\, get food from local restaurants\, participate in the cake walk and inflatables\, take a chance on raffle baskets\, and get spooked on the Haunted Trail! There are pumpkins to paint\, storybook princesses to meet\, and Sweet Pets to hold. There is something for everyone!<br />\n&nbsp\;
LOCATION:Saint Peter Catholic School\, 2606 East 5th Street
UID:e.840.1937
SEQUENCE:3
DTSTAMP:20260423T080038Z
URL:https://business.greenvillenc.org/events/details/annual-saint-peter-catholic-school-halloween-carnival-10-29-2017-1937
END:VEVENT

END:VCALENDAR
