BEGIN:VCALENDAR
VERSION:2.0
PRODID:-//ChamberMaster//Event Calendar 2.0//EN
METHOD:PUBLISH
X-PUBLISHED-TTL:P3D
REFRESH-INTERVAL:P3D
CALSCALE:GREGORIAN
BEGIN:VEVENT
DTSTART:20191024T193000Z
DTEND:20191025T000000Z
X-MICROSOFT-CDO-ALLDAYEVENT:FALSE
SUMMARY:Annual Saint Peter Catholic School Halloween Carnival
DESCRIPTION:For nearly 50 years\, the community has gathered for the annual Saint Peter Catholic School Halloween Carnival. This event truly has something for everyone and serves as the school's largest fundraiser. \n\n\n\nThis year\, the wristbands are designed to cover two general age ranges.\n\n\n\nThe $5 wristband is generally for kids ages 6 and under. It allows\n\naccess to all of the games and fun in the cafeteria. Those activities include the bounce house\, a cookie walk\, and carnival games. This wristband also includes face and hair painting\, and entry into the costume contest. In addition\, this wristband gives you entry to the magic shows at 5:30 pm and 7 pm.\n\n\n\nThe $20 all-access wristband includes all of the bouncy houses\, gaming theater\, rock wall\, carnival games\, pony rides\, petting zoo by It's a Zoo Life\, GUC bucket truck rides\, and crafts with the Pitt County Arts Gallery at Emerge. The only activity this does not cover is the Haunted House.\n\n\n\nIf you buy the $5 wristband and decide at the carnival that you would rather have a $20 wristband\, you can turn in the $5 wristband and pay $15 to upgrade to the all-access wristband.\n\n\n\nKids can come in costume if they so choose! A costume contest is planned for 5 pm.
X-ALT-DESC;FMTTYPE=text/html:<span style="color:rgb(29\, 33\, 41)\; font-family:helvetica\,arial\,sans-serif\; font-size:14px">For nearly 50 years\, the community has gathered for the annual Saint Peter Catholic School Halloween Carnival. This event truly has something for everyone and serves as the school&#39\;s largest fundraiser. </span><br />\n<br />\n<span style="color:rgb(29\, 33\, 41)\; font-family:helvetica\,arial\,sans-serif\; font-size:14px">This year\, the wristbands are designed to cover two general age ranges.</span><br />\n<br />\n<span style="color:rgb(29\, 33\, 41)\; font-family:helvetica\,arial\,sans-serif\; font-size:14px">The $5 wristband is generally for kids ages 6 and under. It allows</span><br />\n<span style="color:rgb(29\, 33\, 41)\; font-family:helvetica\,arial\,sans-serif\; font-size:14px">access to all of the games and fun in the cafeteria. Those activities include the bounce house\, a cookie walk\, and carnival games. This wristband also includes face and hair painting\, and entry into the costume contest. In addition\, this wristband gives you&nbsp\;</span><span style="color:rgb(29\, 33\, 41)\; font-family:helvetica\,arial\,sans-serif\; font-size:14px">entry to the magic shows at 5:30 pm and 7 pm.</span><br />\n<br />\n<span style="color:rgb(29\, 33\, 41)\; font-family:helvetica\,arial\,sans-serif\; font-size:14px">The $20 all-access wristband includes all of the bouncy houses\, gaming theater\, rock wall\, carnival games\, pony rides\, petting zoo by It&rsquo\;s a Zoo Life\, GUC bucket truck rides\, and crafts with the Pitt County Arts Gallery at Emerge. The only activity this does not cover is the Haunted House.</span><br />\n<br />\n<span style="color:rgb(29\, 33\, 41)\; font-family:helvetica\,arial\,sans-serif\; font-size:14px">If you buy the $5 wristband and decide at the carnival that you would rather have a $20 wristband\, you can turn in the $5 wristband and pay $15 to upgrade to the all-access wristband.</span><br />\n<br />\n<span style="color:rgb(29\, 33\, 41)\; font-family:helvetica\,arial\,sans-serif\; font-size:14px">Kids can come in costume if they so choose! A costume contest is planned for 5 pm.</span>
LOCATION:Saint Peter Catholic School\, 2606 East 5th Street
UID:e.840.1935
SEQUENCE:3
DTSTAMP:20260420T093050Z
URL:https://business.greenvillenc.org/events/details/annual-saint-peter-catholic-school-halloween-carnival-10-29-2015-1935
END:VEVENT

END:VCALENDAR
