BEGIN:VCALENDAR
VERSION:2.0
PRODID:-//ChamberMaster//Event Calendar 2.0//EN
METHOD:PUBLISH
X-PUBLISHED-TTL:P3D
REFRESH-INTERVAL:P3D
CALSCALE:GREGORIAN
BEGIN:VEVENT
DTSTART;VALUE=DATE:20191120
DTEND;VALUE=DATE:20191212
TRANSP:TRANSPARENT
X-MICROSOFT-CDO-ALLDAYEVENT:TRUE
SUMMARY:Annual Charitable Collection
DESCRIPTION:This year McGee Chiropractic's annual charitable collection will benefit Greenville's Police Athletic League.  The PAL program provides outreach for children between the ages of 5 and 13.  Donations may be dropped off at our office between Nov 20th - Dec 11th. The PAL is a youth crime prevention program that utilizes educational\, athletic\, and recreational activities to create trust and understanding between police officers and area youth.  The PAL offers the opportunity for youngsters to interact with police officers and build positive relationships by participating in education development\, cultural development\, character development\, and athletic activities.  The PAL provides an after school program for students between the ages of 5-13 and operates out of Eppes and South Greenville Recreation Centers.  \n\nYou can help by donating the following items:\n\n	School Supplies- lined paper\, pens\, pencils\, notebooks\, folders\, backpacks\, highlighters\, glue sticks\, calculators\, copy paper\, etc\n	Winter hats and gloves\n	 Sports equipment: baseballs\, bats\, baseball gloves\, baseball helmets\, footballs\, basketballs\, rubber playground/ kick balls
X-ALT-DESC;FMTTYPE=text/html:This year McGee Chiropractic&#39\;s annual charitable collection will benefit Greenville&#39\;s Police Athletic League.&nbsp\; The PAL program provides outreach for children between the ages of 5 and 13.&nbsp\; Donations may be dropped off at our office between Nov 20th - Dec 11th.&nbsp\;The PAL is a youth crime prevention program that utilizes educational\, athletic\, and recreational activities to create trust and understanding between police officers and area youth.&nbsp\; The PAL offers the opportunity for youngsters to interact with police officers and build positive relationships by participating in education development\, cultural development\, character development\, and athletic activities.&nbsp\; The PAL provides an after school program for students between the ages of 5-13 and operates out of Eppes and South Greenville Recreation Centers. &nbsp\;<br />\nYou can help by donating the following items:\n<ul>\n	<li>School Supplies- lined paper\, pens\, pencils\, notebooks\, folders\, backpacks\, highlighters\, glue sticks\, calculators\, copy paper\, etc</li>\n	<li>Winter hats and gloves</li>\n	<li>&nbsp\;Sports equipment: baseballs\, bats\, baseball gloves\, baseball helmets\, footballs\, basketballs\, rubber playground/ kick balls</li>\n</ul>\n
LOCATION:1330 E Arlington Blvd Unit B Greenville NC 27858
UID:e.840.10929
SEQUENCE:3
DTSTAMP:20260420T060909Z
URL:https://business.greenvillenc.org/events/details/annual-charitable-collection-10929
END:VEVENT

END:VCALENDAR
