BEGIN:VCALENDAR
VERSION:2.0
PRODID:-//ChamberMaster//Event Calendar 2.0//EN
METHOD:PUBLISH
X-PUBLISHED-TTL:P3D
REFRESH-INTERVAL:P3D
CALSCALE:GREGORIAN
BEGIN:VEVENT
DTSTART:20190923T193000Z
DTEND:20190923T223000Z
X-MICROSOFT-CDO-ALLDAYEVENT:FALSE
SUMMARY:Anniversary Party
DESCRIPTION:Anniversary Party!\n\nGames\, Pizza\, Cupcakes\, and more!!\n\n\n\nCelebrate with us!\n\nMonday\, September 23\, 2019
X-ALT-DESC;FMTTYPE=text/html:Anniversary Party!<br />\nGames\, Pizza\, Cupcakes\, and more!!<br />\n<br />\nCelebrate with us!<br />\nMonday\, September 23\, 2019<br />\n&nbsp\;
LOCATION:701 W Fire Tower Rd Winterville\, NC 28560
UID:e.840.10774
SEQUENCE:3
DTSTAMP:20260420T103509Z
URL:https://business.greenvillenc.org/events/details/anniversary-party-10774
END:VEVENT

END:VCALENDAR
