BEGIN:VCALENDAR
VERSION:2.0
PRODID:-//ChamberMaster//Event Calendar 2.0//EN
METHOD:PUBLISH
X-PUBLISHED-TTL:P3D
REFRESH-INTERVAL:P3D
CALSCALE:GREGORIAN
BEGIN:VEVENT
DTSTART:20170824T170000Z
DTEND:20170824T200000Z
X-MICROSOFT-CDO-ALLDAYEVENT:FALSE
SUMMARY:Anger Management 101 (Training)
DESCRIPTION:This interactive 3-hour training is an introduction to our Anger Management Skills Development Program.\n\n\n\nIn this training\, participants will discuss and define anger management\, discuss responses to anger triggers\, and learn the difference between healthy and unhealthy anger.
X-ALT-DESC;FMTTYPE=text/html:This interactive 3-hour training is an introduction to our Anger Management Skills Development Program.<br />\n<br />\nIn this training\, participants will discuss and define anger management\, discuss responses to anger triggers\, and learn the difference between healthy and unhealthy anger.
LOCATION:MCEC Pitt/Greenville Office 200-A Eastbrook Dr. Greenville\, NC 27858
UID:e.840.8639
SEQUENCE:3
DTSTAMP:20260423T103952Z
URL:https://business.greenvillenc.org/events/details/anger-management-101-training-8639
END:VEVENT

END:VCALENDAR
