BEGIN:VCALENDAR
VERSION:2.0
PRODID:-//ChamberMaster//Event Calendar 2.0//EN
METHOD:PUBLISH
X-PUBLISHED-TTL:P3D
REFRESH-INTERVAL:P3D
CALSCALE:GREGORIAN
BEGIN:VEVENT
DTSTART:20190113T143000Z
DTEND:20190113T183000Z
X-MICROSOFT-CDO-ALLDAYEVENT:FALSE
SUMMARY:American Red Cross First Presbyterian Church Greenville
DESCRIPTION:
X-ALT-DESC;FMTTYPE=text/html:
LOCATION:First Presbyterian Greenville - Main Room 1400 South Elm Street Greenville\, NC 27834
UID:e.840.8952
SEQUENCE:3
DTSTAMP:20260420T230544Z
URL:https://business.greenvillenc.org/events/details/american-red-cross-first-presbyterian-church-greenville-8952
END:VEVENT

END:VCALENDAR
