BEGIN:VCALENDAR
VERSION:2.0
PRODID:-//ChamberMaster//Event Calendar 2.0//EN
METHOD:PUBLISH
X-PUBLISHED-TTL:P3D
REFRESH-INTERVAL:P3D
CALSCALE:GREGORIAN
BEGIN:VEVENT
DTSTART:20200731T140000Z
DTEND:20200731T180000Z
X-MICROSOFT-CDO-ALLDAYEVENT:FALSE
SUMMARY:American Red Cross Blood Drive- Greenville Mall
DESCRIPTION:Help maintain the blood supply.  Donate now. \n\n\n\nBlood Drive at Greenville Mall in the common area\n\n\n\nTo schedule an appointment\, visit redcrossblood.org
X-ALT-DESC;FMTTYPE=text/html:Help maintain the blood supply.&nbsp\; Donate now.&nbsp\;<br />\n<br />\nBlood Drive at Greenville Mall in the common area<br />\n<br />\nTo schedule an appointment\, visit redcrossblood.org<br />\n&nbsp\;
LOCATION:Greenville Mall
UID:e.840.11430
SEQUENCE:3
DTSTAMP:20260419T191923Z
URL:https://business.greenvillenc.org/events/details/american-red-cross-blood-drive-greenville-mall-11430
END:VEVENT

END:VCALENDAR
