BEGIN:VCALENDAR
VERSION:2.0
PRODID:-//ChamberMaster//Event Calendar 2.0//EN
METHOD:PUBLISH
X-PUBLISHED-TTL:P3D
REFRESH-INTERVAL:P3D
CALSCALE:GREGORIAN
BEGIN:VEVENT
DTSTART:20190116T200000Z
DTEND:20190117T000000Z
X-MICROSOFT-CDO-ALLDAYEVENT:FALSE
SUMMARY:American Red Cross Blood Drive at Winterville Christian Church
DESCRIPTION:
X-ALT-DESC;FMTTYPE=text/html:
LOCATION:Winterville Christian Church - Fellowship Hall 257 Cooper Street Winterville\, NC 28590
UID:e.840.8954
SEQUENCE:3
DTSTAMP:20260420T220429Z
URL:https://business.greenvillenc.org/events/details/american-red-cross-blood-drive-at-winterville-christian-church-8954
END:VEVENT

END:VCALENDAR
