BEGIN:VCALENDAR
VERSION:2.0
PRODID:-//ChamberMaster//Event Calendar 2.0//EN
METHOD:PUBLISH
X-PUBLISHED-TTL:P3D
REFRESH-INTERVAL:P3D
CALSCALE:GREGORIAN
BEGIN:VEVENT
DTSTART:20181202T140000Z
DTEND:20181202T190000Z
X-MICROSOFT-CDO-ALLDAYEVENT:FALSE
SUMMARY:American Red Cross Blood Drive at St. Peter's Catholic Church
DESCRIPTION:
X-ALT-DESC;FMTTYPE=text/html:
LOCATION:St. Peter's Catholic Church Spiritual Life Center
UID:e.840.8948
SEQUENCE:3
DTSTAMP:20260420T230344Z
URL:https://business.greenvillenc.org/events/details/american-red-cross-blood-drive-at-st-peter-s-catholic-church-8948
END:VEVENT

END:VCALENDAR
