BEGIN:VCALENDAR
VERSION:2.0
PRODID:-//ChamberMaster//Event Calendar 2.0//EN
METHOD:PUBLISH
X-PUBLISHED-TTL:P3D
REFRESH-INTERVAL:P3D
CALSCALE:GREGORIAN
BEGIN:VEVENT
DTSTART:20190121T190000Z
DTEND:20190122T000000Z
X-MICROSOFT-CDO-ALLDAYEVENT:FALSE
SUMMARY:American Red Cross Blood Drive at Reedy Branch Free Will Baptist Church
DESCRIPTION:
X-ALT-DESC;FMTTYPE=text/html:
LOCATION:Reedy Branch Free Will Baptist Church - Fellowship Hall 4457 Reedy Branch Road Winterville\, NC 28590
UID:e.840.8955
SEQUENCE:3
DTSTAMP:20260420T220732Z
URL:https://business.greenvillenc.org/events/details/american-red-cross-blood-drive-at-reedy-branch-free-will-baptist-church-8955
END:VEVENT

END:VCALENDAR
