BEGIN:VCALENDAR
VERSION:2.0
PRODID:-//ChamberMaster//Event Calendar 2.0//EN
METHOD:PUBLISH
X-PUBLISHED-TTL:P3D
REFRESH-INTERVAL:P3D
CALSCALE:GREGORIAN
BEGIN:VEVENT
DTSTART:20190106T170000Z
DTEND:20190106T210000Z
X-MICROSOFT-CDO-ALLDAYEVENT:FALSE
SUMMARY:American Red Cross Blood Drive at Peace Presbyterian Church
DESCRIPTION:
X-ALT-DESC;FMTTYPE=text/html:
LOCATION:Peace Presbyterian Church 962 Jack Jones Road Winterville\, NC 28590
UID:e.840.8951
SEQUENCE:3
DTSTAMP:20260420T214946Z
URL:https://business.greenvillenc.org/events/details/american-red-cross-blood-drive-at-peace-presbyterian-church-8951
END:VEVENT

END:VCALENDAR
