BEGIN:VCALENDAR
VERSION:2.0
PRODID:-//ChamberMaster//Event Calendar 2.0//EN
METHOD:PUBLISH
X-PUBLISHED-TTL:P3D
REFRESH-INTERVAL:P3D
CALSCALE:GREGORIAN
BEGIN:VEVENT
DTSTART:20190113T180000Z
DTEND:20190113T220000Z
X-MICROSOFT-CDO-ALLDAYEVENT:FALSE
SUMMARY:American Red Cross Blood Drive at Grifton Volunteer Fire Department
DESCRIPTION:
X-ALT-DESC;FMTTYPE=text/html:
LOCATION:Grifton Volunteer Fire Department - Fire Truck Bays 6881 A South Highland Ave Grifton\, NC 28530
UID:e.840.8953
SEQUENCE:3
DTSTAMP:20260420T214608Z
URL:https://business.greenvillenc.org/events/details/american-red-cross-blood-drive-at-grifton-volunteer-fire-department-8953
END:VEVENT

END:VCALENDAR
