BEGIN:VCALENDAR
VERSION:2.0
PRODID:-//ChamberMaster//Event Calendar 2.0//EN
METHOD:PUBLISH
X-PUBLISHED-TTL:P3D
REFRESH-INTERVAL:P3D
CALSCALE:GREGORIAN
BEGIN:VEVENT
DTSTART:20190102T180000Z
DTEND:20190103T000000Z
X-MICROSOFT-CDO-ALLDAYEVENT:FALSE
SUMMARY:American Red Cross Blood Drive at Friends In Fellowship Christian Church
DESCRIPTION:
X-ALT-DESC;FMTTYPE=text/html:
LOCATION:Friends In Fellowship Christian Church Fellowship Hall 962 Jack Jones Road Winterville\, NC 28590
UID:e.840.8950
SEQUENCE:3
DTSTAMP:20260420T220132Z
URL:https://business.greenvillenc.org/events/details/american-red-cross-blood-drive-at-friends-in-fellowship-christian-church-8950
END:VEVENT

END:VCALENDAR
