BEGIN:VCALENDAR
VERSION:2.0
PRODID:-//ChamberMaster//Event Calendar 2.0//EN
METHOD:PUBLISH
X-PUBLISHED-TTL:P3D
REFRESH-INTERVAL:P3D
CALSCALE:GREGORIAN
BEGIN:VEVENT
DTSTART:20180110T200000Z
DTEND:20180111T000000Z
X-MICROSOFT-CDO-ALLDAYEVENT:FALSE
SUMMARY:American Red Cross Blood Drive
DESCRIPTION:The Greenville Moose Lodge is hosting a blood drive on Wednesday\, January 10 from 3:00-7:00PM at 5393 Reedy Branch Rd\, Winterville\, NC 28590.\n\nDonors can schedule an appointment by visiting redcrossblood.org or by downloading the redcross app. Walk-ins are welcome as well.
X-ALT-DESC;FMTTYPE=text/html:<pre>\n<span style="font-size:14px"><span style="font-family:arial\,helvetica\,sans-serif"><span style="color:#000000">The Greenville Moose Lodge is hosting a blood drive on Wednesday\, January 10 from 3:00-7:00PM at 5393 Reedy Branch Rd\, Winterville\, NC 28590.\n\nDonors can schedule an appointment by visiting redcrossblood.org or by downloading the redcross app. Walk-ins are welcome as well.</span></span></span></pre>\n
LOCATION:5393 Reedy Branch Rd\, Winterville\, NC 28590
UID:e.840.8689
SEQUENCE:3
DTSTAMP:20260423T032551Z
URL:https://business.greenvillenc.org/events/details/american-red-cross-blood-drive-8689
END:VEVENT

END:VCALENDAR
