BEGIN:VCALENDAR
VERSION:2.0
PRODID:-//ChamberMaster//Event Calendar 2.0//EN
METHOD:PUBLISH
X-PUBLISHED-TTL:P3D
REFRESH-INTERVAL:P3D
CALSCALE:GREGORIAN
BEGIN:VEVENT
DTSTART:20180824T220000Z
DTEND:20180825T000000Z
X-MICROSOFT-CDO-ALLDAYEVENT:FALSE
SUMMARY:American Cancer Society: Making Strides Against Breast Cancer of Eastern NC Kick Off Garden Soiree
DESCRIPTION:Join us for dinner\, entertainment and inspiring stories as we\n\nlearn more about Making Strides of Eastern NC and\n\nhow you\, your organization or business can become involved\n\nin our upcoming Walk and Celebration.
X-ALT-DESC;FMTTYPE=text/html:<p>Join us for dinner\, entertainment and inspiring stories as we</p>\n\n<p>learn more about Making Strides of Eastern NC and</p>\n\n<p>how you\, your organization or business can become involved</p>\n\n<p>in our upcoming Walk and Celebration.</p>\n
LOCATION:Back Lawn McConnell-Raab Hope Lodge 930 Wellness Drive Greenville\, NC 27834
UID:e.840.8908
SEQUENCE:3
DTSTAMP:20260421T050954Z
URL:https://business.greenvillenc.org/events/details/american-cancer-society-making-strides-against-breast-cancer-of-eastern-nc-kick-off-garden-soiree-8908
END:VEVENT

END:VCALENDAR
