BEGIN:VCALENDAR
VERSION:2.0
PRODID:-//ChamberMaster//Event Calendar 2.0//EN
METHOD:PUBLISH
X-PUBLISHED-TTL:P3D
REFRESH-INTERVAL:P3D
CALSCALE:GREGORIAN
BEGIN:VEVENT
DTSTART:20161105T130000Z
DTEND:20161105T161500Z
X-MICROSOFT-CDO-ALLDAYEVENT:FALSE
SUMMARY:Alzheimer's North Carolina 2016 Greenville Region Walk
DESCRIPTION:Alzheimer's North Carolina to Hold Annual Walk on November 5th\, 2016\n\n \n\n The annual Alzheimer's North Carolina Greenville Region Walk will be held Saturday\, November 5th\, 2016 at the Greenville Town Common.  Registration and entertainment begins at 9:00 a.m. followed by the Mayor's Proclamation\, Presentation of Colors and the National Anthem before the walk kick-off.\n\n \n\nCome out to walk for a good cause and enjoy a morning of family fun\, music\, food\, laughter\, raffles and walk team prizes while being entertained by DJ Alan Vick\, the Carolina Chord Connection\, the ECU Dance Club\, the Charles June Karate Demonstration Team\, Step Team performers and participate in our special memorial flower ceremony featuring Cyrus Taylor.\n\n \n\nAll funds generated by the Greenville Region Alzheimer's Walk help Alzheimer's North Carolina provide educational resources\, programs and services to North Carolina families living with a diagnosis of Alzheimer's disease or related dementias.\n\n \n\nAlzheimer's North Carolina\, a 501(c)3 nonprofit (Federal ID: 56-1501117)\, and incorporated in the State of North Carolina has been providing educational programs\, family services\, counseling\, advocacy\, research and emergency respite to families in eastern North Carolina for more than 30 years. \n\n \n\nFor more information call Tamyra Jovel\, Program and Services Director at the Alzheimer's North Carolina Greenville office at (252) 355-0054.
X-ALT-DESC;FMTTYPE=text/html:<br />\n<span style="font-size:16px\;"><strong><span style="font-family:times new roman">&#8203\;Alzheimer&#39\;s North Carolina to Hold Annual Walk on November 5th\, 2016</span></strong></span><br />\n&nbsp\;<br />\n<span style="font-size:12px\;">&nbsp\;<span style="font-family:times new roman">The annual Alzheimer&#39\;s North Carolina Greenville Region Walk will be held Saturday\, November 5th\, 2016 at the Greenville Town Common.&nbsp\; Registration and entertainment begins at 9:00 a.m. followed by the Mayor&rsquo\;s Proclamation\, Presentation of Colors and the National Anthem before the walk kick-off.</span><br />\n&nbsp\;<br />\n<span style="font-family:times new roman">Come out to walk for a good cause and enjoy a morning of family fun\, music\, food\, laughter\, raffles and walk team prizes while being entertained by DJ Alan Vick\, the Carolina Chord Connection\, the ECU Dance Club\, the Charles June Karate Demonstration Team\, Step Team performers and participate in our special memorial flower ceremony featuring Cyrus Taylor.</span><br />\n&nbsp\;<br />\n<span style="font-family:times new roman">All funds generated by the Greenville Region Alzheimer&#39\;s Walk help Alzheimer&#39\;s North Carolina provide educational resources\, programs and services to North Carolina families living with a diagnosis of Alzheimer&rsquo\;s disease or related dementias.</span><br />\n&nbsp\;<br />\n<span style="font-family:times new roman">Alzheimer&#39\;s North Carolina\, a 501(c)3 nonprofit (Federal ID: 56-1501117)\, and incorporated in the State of North Carolina has been providing educational programs\, family services\, counseling\, advocacy\, research and emergency respite to families in eastern North Carolina for more than 30 years. </span><br />\n&nbsp\;<br />\n<span style="font-family:times new roman">For more information call Tamyra Jovel\, Program and Services Director at the Alzheimer&#39\;s North Carolina Greenville office at (252) 355-0054.</span></span>
LOCATION:Greenville Town Common
UID:e.840.4907
SEQUENCE:3
DTSTAMP:20260424T000716Z
URL:https://business.greenvillenc.org/events/details/alzheimer-s-north-carolina-2016-greenville-region-walk-11-05-2016-4907
END:VEVENT

END:VCALENDAR
