BEGIN:VCALENDAR
VERSION:2.0
PRODID:-//ChamberMaster//Event Calendar 2.0//EN
METHOD:PUBLISH
X-PUBLISHED-TTL:P3D
REFRESH-INTERVAL:P3D
CALSCALE:GREGORIAN
BEGIN:VEVENT
DTSTART:20170121T000000Z
DTEND:20170121T010000Z
X-MICROSOFT-CDO-ALLDAYEVENT:FALSE
SUMMARY:Alice in Wonderland
DESCRIPTION:ECU's Family Fare series presents Alice in Wonderland. Rich with symbolism\, Alice's surreal adventures in Wonderland impart lessons about growing up. Meet the Queen of Hearts\, the Mad Hatter\, the wise caterpillar and the White Rabbit\, a host who doesn't even seem to know what time it is. Mayhem\, tea parties and impossibly small cakes abound before Alice finds her way home. Family Fare events run six minutes without intermission. Cheaper than the movies\, they're a great way to introduce elementary-aged children to the splendour of live theatre. Save big when you subscribe.
X-ALT-DESC;FMTTYPE=text/html:<span style="font-family:arial\,helvetica neue\,helvetica\,sans-serif">ECU&#39\;s Family Fare series presents <em>Alice in Wonderland</em>. Rich with symbolism\, Alice&#39\;s surreal adventures in Wonderland impart lessons about growing up. Meet the Queen of Hearts\, the Mad Hatter\, the wise caterpillar and the White Rabbit\, a host who doesn&#39\;t even seem to know what time it is. Mayhem\, tea parties and impossibly small cakes abound before Alice finds her way home. Family Fare events run six minutes without intermission. Cheaper than the movies\, they&#39\;re a great way to introduce elementary-aged children to the splendour of live theatre. Save big when you subscribe.</span>
LOCATION:ECU's Wright Auditorium
UID:e.840.2683
SEQUENCE:3
DTSTAMP:20260423T211345Z
URL:https://business.greenvillenc.org/events/details/alice-in-wonderland-01-20-2017-2683
END:VEVENT

END:VCALENDAR
