BEGIN:VCALENDAR
VERSION:2.0
PRODID:-//ChamberMaster//Event Calendar 2.0//EN
METHOD:PUBLISH
X-PUBLISHED-TTL:P3D
REFRESH-INTERVAL:P3D
CALSCALE:GREGORIAN
BEGIN:VEVENT
DTSTART:20190509T190000Z
DTEND:20190509T230000Z
X-MICROSOFT-CDO-ALLDAYEVENT:FALSE
SUMMARY:Aging Gracefully: Healthy Senior Living Resource Fair
DESCRIPTION:Come and learn about a variety of topics to help seniors live their best life!
X-ALT-DESC;FMTTYPE=text/html:<span style="background-color:rgb(255\, 255\, 255)\; color:rgb(29\, 33\, 41)\; font-family:helvetica\,arial\,sans-serif\; font-size:14px">Come and learn about a variety of topics to help seniors live their best life!</span>
LOCATION:Pitt County Council on Aging 4551 County Home Road Greenville\, NC 27858
UID:e.840.10039
SEQUENCE:3
DTSTAMP:20260420T163509Z
URL:https://business.greenvillenc.org/events/details/aging-gracefully-healthy-senior-living-resource-fair-10039
END:VEVENT

END:VCALENDAR
