BEGIN:VCALENDAR
VERSION:2.0
PRODID:-//ChamberMaster//Event Calendar 2.0//EN
METHOD:PUBLISH
X-PUBLISHED-TTL:P3D
REFRESH-INTERVAL:P3D
CALSCALE:GREGORIAN
BEGIN:VEVENT
DTSTART;VALUE=DATE:20191205
DTEND;VALUE=DATE:20191206
TRANSP:TRANSPARENT
X-MICROSOFT-CDO-ALLDAYEVENT:TRUE
SUMMARY:Aerial Yoga
DESCRIPTION:This Aerial Yoga class takes your yoga practice off the mat and into the air\; helping to develop upper body and core strength. In this class you will develop the basic skills to further explore the intersection of traditional yoga and aerial fitness. The flow will be similar to a mat based yoga class\, enlivening the whole body\, engaging the breath and calming the mind. Bring your yoga practice to new heights as you fly in ways you never thought possible! We will also present some ways to use the aerial hammocks in a restorative practice as well. Come ready to have some yoga fun!\n\nPlease come 10 minutes early to find a fabric that fits your body & bring a t-shirt to wear. No jewelry please!\n\n\n\nYou may drop in to this class\, but we recommend preregistering due to space limitations.
X-ALT-DESC;FMTTYPE=text/html:<span style="color:rgb(29\, 33\, 41)\; font-family:helvetica\,arial\,sans-serif\; font-size:14px">This Aerial Yoga class takes your yoga practice off the mat and into the air\; helping to develop upper body and core strength. In this class you will develop the basic skills to further explore the intersection of traditional yoga and aerial fitness. The flow will be similar to a mat based yoga class\, enlivening the whole body\, engaging the breath and calming the mind. Bring your yoga practice to new heights as you fly in ways you never thought possible! We will also present some ways to use the aerial hammocks in a restorative practice as well. Come ready to have some yoga fun!</span><br />\n<span style="color:rgb(29\, 33\, 41)\; font-family:helvetica\,arial\,sans-serif\; font-size:14px">Please come 10 minutes early to find a fabric that fits your body &amp\; bring a t-shirt to wear. No jewelry please!</span><br />\n<br />\n<span style="color:rgb(29\, 33\, 41)\; font-family:helvetica\,arial\,sans-serif\; font-size:14px">You may drop in to this class\, but we recommend preregistering due to space limitations.</span>
LOCATION:302 E Evans St\, Greenville\, NC 27858
UID:e.840.10942
SEQUENCE:3
DTSTAMP:20260420T061336Z
URL:https://business.greenvillenc.org/events/details/aerial-yoga-12-05-2019-10942
END:VEVENT

END:VCALENDAR
