BEGIN:VCALENDAR
VERSION:2.0
PRODID:-//ChamberMaster//Event Calendar 2.0//EN
METHOD:PUBLISH
X-PUBLISHED-TTL:P3D
REFRESH-INTERVAL:P3D
CALSCALE:GREGORIAN
BEGIN:VEVENT
DTSTART:20161015T140000Z
DTEND:20161015T190000Z
X-MICROSOFT-CDO-ALLDAYEVENT:FALSE
SUMMARY:A Time for Science Expo
DESCRIPTION:Bring your children out to enjoy the 40+ exhibitors featuring interactive activities for participants of all ages. Exhibits include live\, touchable animals\, robots\, planetarium\, games and hands on science activities at every booth! Take this opportunity to explore the world of science in a fun and exciting way! If you would like to be a vendor/ exhibitor or sponsor please contact emily@atimeforscience.org
X-ALT-DESC;FMTTYPE=text/html:<span style="color:rgb(75\, 79\, 86)\; font-family:helvetica\,arial\,sans-serif\; font-size:14px">Bring your children out to enjoy the 40+ exhibitors featuring interactive activities for participants of all ages. Exhibits include live\, touchable animals\, robots\, planetarium\, games and hands on science activities at every booth! Take this opportunity to explore the world of science in a fun and exciting way! If you would like to be a vendor/ exhibitor or sponsor please contact emily@atimeforscience.org</span>
LOCATION:Greenville Convention Center 303 SW Greenville Blvd\, Greenville\, North Carolina 27834
UID:e.840.6278
SEQUENCE:3
DTSTAMP:20260424T010144Z
URL:https://business.greenvillenc.org/events/details/a-time-for-science-expo-6278
END:VEVENT

END:VCALENDAR
