BEGIN:VCALENDAR
VERSION:2.0
PRODID:-//ChamberMaster//Event Calendar 2.0//EN
METHOD:PUBLISH
X-PUBLISHED-TTL:P3D
REFRESH-INTERVAL:P3D
CALSCALE:GREGORIAN
BEGIN:VEVENT
DTSTART:20170218T000000Z
DTEND:20170218T030000Z
X-MICROSOFT-CDO-ALLDAYEVENT:FALSE
SUMMARY:A Starry Night
DESCRIPTION:Come out to A Time For Science to enjoy an evening planetarium show\, a telescope observing session and an observatory tour.
X-ALT-DESC;FMTTYPE=text/html:Come out to A Time For Science to enjoy an evening planetarium show\, a telescope observing session and an observatory tour.
LOCATION:A Time for Science 949 Contentnea Lane Grifton\, NC 28530
UID:e.840.7847
SEQUENCE:3
DTSTAMP:20260423T210601Z
URL:https://business.greenvillenc.org/events/details/a-starry-night-7847
END:VEVENT

END:VCALENDAR
