BEGIN:VCALENDAR
VERSION:2.0
PRODID:-//ChamberMaster//Event Calendar 2.0//EN
METHOD:PUBLISH
X-PUBLISHED-TTL:P3D
REFRESH-INTERVAL:P3D
CALSCALE:GREGORIAN
BEGIN:VEVENT
DTSTART:20171020T213000Z
DTEND:20171020T233000Z
X-MICROSOFT-CDO-ALLDAYEVENT:FALSE
SUMMARY:A Purple Gold Evening: Alumni Awards Ceremony and Dinner
DESCRIPTION:Alumni Awards Ceremony and Dinner\nJoin us in recognizing alumni and friends of the university who have demonstrated outstanding merit and achievement\, distinguished themselves as leaders for the university\, and adopted East Carolina as their own.
X-ALT-DESC;FMTTYPE=text/html:<h1 style="text-align: center\;"><span style="color:#4B0082">Alumni Awards Ceremony and Dinner</span></h1>\n<span style="font-family:droid sans\,helvetica\,arial\,sans-serif\; font-size:14px">Join us in recognizing alumni and friends of the university who have demonstrated outstanding merit and achievement\, distinguished themselves as leaders for the university\, and adopted East Carolina as their own.</span>
LOCATION:Greenville Convention Center 303 SW Greenville Boulevard Greenville\, NC
UID:e.840.8655
SEQUENCE:3
DTSTAMP:20260423T091850Z
URL:https://business.greenvillenc.org/events/details/a-purple-gold-evening-alumni-awards-ceremony-and-dinner-8655
END:VEVENT

END:VCALENDAR
