BEGIN:VCALENDAR
VERSION:2.0
PRODID:-//ChamberMaster//Event Calendar 2.0//EN
METHOD:PUBLISH
X-PUBLISHED-TTL:P3D
REFRESH-INTERVAL:P3D
CALSCALE:GREGORIAN
BEGIN:VEVENT
DTSTART:20181019T213000Z
DTEND:20181020T003000Z
X-MICROSOFT-CDO-ALLDAYEVENT:FALSE
SUMMARY:A Purple Gold Evening: Alumni Awards Ceremony and Dinner
DESCRIPTION:A Purple and Gold Evening\n\nAlumni Awards Ceremony and Dinner: Celebrating the Stars of ECU\n\nJoin us in recognizing alumni and friends of the university who have demonstrated outstanding merit and achievement\, distinguished themselves as leaders for the university\, and adopted ECU as their own.
X-ALT-DESC;FMTTYPE=text/html:<h1><strong>A Purple and Gold Evening</strong></h1>\n\n<h2>Alumni Awards Ceremony and Dinner: Celebrating the Stars of ECU</h2>\n\n<p>Join us in recognizing alumni and friends of the university who have demonstrated outstanding merit and achievement\, distinguished themselves as leaders for the university\, and adopted ECU as their own.</p>\n
LOCATION:Greenville Convention Center 303 SW Greenville Boulevard Greenville\, NC 27858
UID:e.840.8927
SEQUENCE:3
DTSTAMP:20260421T014439Z
URL:https://business.greenvillenc.org/events/details/a-purple-gold-evening-alumni-awards-ceremony-and-dinner-10-19-2018-8927
END:VEVENT

END:VCALENDAR
