BEGIN:VCALENDAR
VERSION:2.0
PRODID:-//ChamberMaster//Event Calendar 2.0//EN
METHOD:PUBLISH
X-PUBLISHED-TTL:P3D
REFRESH-INTERVAL:P3D
CALSCALE:GREGORIAN
BEGIN:VEVENT
DTSTART:20191025T213000Z
DTEND:20191026T003000Z
X-MICROSOFT-CDO-ALLDAYEVENT:FALSE
SUMMARY:A Purple and Gold Evening: Celebrating the Stars of ECU
DESCRIPTION:Join us in recognizing alumni and friends of the university who have demonstrated outstanding merit and achievement\, distinguished themselves as leaders for the university\, and adopted East Carolina as their own on Friday\, October 25\, 2019 at the Greenville Convention Center.\n\n\n\nTickets to the Alumni Awards Ceremony and Dinner are $70. Be a Gold Patron for $200 (includes 2 tickets and recognition at the event) or a Purple Patron for $100 (includes recognition at the event only). Table sponsorship are also available (includes 8 tickets and table signage) for $1\,000.\n\n\n\nAdvance registration only. No tickets will be sold at the door. Register by Friday\, October 18\, 2019.
X-ALT-DESC;FMTTYPE=text/html:<p><span style="color:#333333\; font-family:arial\,sans-serif\; font-size:10.0pt">Join us in recognizing alumni and friends of the university who have demonstrated outstanding merit and achievement\, distinguished themselves as leaders for the university\, and adopted East Carolina as their own on Friday\, October 25\, 2019 at the Greenville Convention Center.</span><br />\n<br />\nTickets to the Alumni Awards Ceremony and Dinner are $70. Be a Gold Patron for $200 (includes 2 tickets and recognition at the event) or a Purple Patron for $100 (includes recognition at the event only). Table sponsorship are also available (includes 8 tickets and table signage) for $1\,000.<br />\n<br />\n<strong><span style="font-family:arial\,sans-serif">Advance registration only. No tickets will be sold at the door. Register by Friday\, October 18\, 2019.</span></strong></p>\n
LOCATION:Greenville Convention Center
UID:e.840.10342
SEQUENCE:3
DTSTAMP:20260420T093753Z
URL:https://business.greenvillenc.org/events/details/a-purple-and-gold-evening-celebrating-the-stars-of-ecu-10342
END:VEVENT

END:VCALENDAR
