BEGIN:VCALENDAR
VERSION:2.0
PRODID:-//ChamberMaster//Event Calendar 2.0//EN
METHOD:PUBLISH
X-PUBLISHED-TTL:P3D
REFRESH-INTERVAL:P3D
CALSCALE:GREGORIAN
BEGIN:VEVENT
DTSTART:20200619T233000Z
DTEND:20200620T023000Z
X-MICROSOFT-CDO-ALLDAYEVENT:FALSE
SUMMARY:A Pop Up Drive-In Movie Theatre at Third Street Education Center
DESCRIPTION:Ready to get out of the house? Shake off that cabin fever and come support a great organization!  On Friday\, June 19th Third Street Education Center will be serving dinner and showing Remember the Titans at a Pop Up Drive-In Movie Theatre right here on our property! Movies Tickets\, and Dinner/Movie Combo Tickets can be purchased at  www.thirdstreetec.org/drive-in  All funds go to support the programs of Third Street!
X-ALT-DESC;FMTTYPE=text/html:Ready to get out of the house? Shake off that cabin fever and come support a great organization! &nbsp\;On Friday\, June 19th Third Street Education Center will be serving dinner and showing Remember the Titans at a Pop Up Drive-In Movie Theatre right here on our property! Movies Tickets\, and Dinner/Movie Combo Tickets can be purchased at &nbsp\;www.thirdstreetec.org/drive-in &nbsp\;All funds go to support the programs of Third Street!&nbsp\;
LOCATION:600 W. Third Street Grreenville\, NC 27834
UID:e.840.11424
SEQUENCE:3
DTSTAMP:20260419T205427Z
URL:https://business.greenvillenc.org/events/details/a-pop-up-drive-in-movie-theatre-at-third-street-education-center-11424
END:VEVENT

END:VCALENDAR
