BEGIN:VCALENDAR
VERSION:2.0
PRODID:-//ChamberMaster//Event Calendar 2.0//EN
METHOD:PUBLISH
X-PUBLISHED-TTL:P3D
REFRESH-INTERVAL:P3D
CALSCALE:GREGORIAN
BEGIN:VEVENT
DTSTART:20200307T230000Z
DTEND:20200308T030000Z
X-MICROSOFT-CDO-ALLDAYEVENT:FALSE
SUMMARY:A Jellicle Celebration of Felines
DESCRIPTION:Join us at elegant Brook Valley Country Club for a delightful evening of fun\, fantasy and celebration of the felines of Beare Garden Plantation Animal Rescue (www.bgpanimalrescue.com). Cocktail hour is followed by a seated dinner party with a magnificent meal created by Chef Dave and Chef Kendric. One beer/wine selection will be included for each paid admission. A full cash bar will be available during the entirety of the event. A silent auction will feature all sorts of great finds such as jewelry from Bailey's and other local Jewelers\, art\, "Cats" memorabilia\, sports collectibles\, gift certificates\, furniture\, pet items...all things that are the Cat's Meow. You might even encounter a feline or two from the Broadway Musical\, "Cats". Beare Garden Plantation Animal Rescue has saved over 450 cats and dogs in less than two years. Other community impacts include providing food\, litter\, medicine\, spay/neuter and veterinary care for animals in need in our community. Twelve counties have been served by BGP\, though the focus is on Pitt\, Greene and Lenoir Counties. All funds go directly to the care of our animals. We are a non-profit NC licensed rescue shelter under The Community Foundation of NC East\, a 501(c)3 charity (FEIN 56-2152669).
X-ALT-DESC;FMTTYPE=text/html:<span style="color:#1D2129"><span style="font-family:calibri light\,sans-serif"><span style="font-size:11.0pt">Join us at elegant Brook Valley Country Club for a delightful evening of fun\, fantasy and celebration of the felines of Beare Garden Plantation Animal Rescue (www.bgpanimalrescue.com). Cocktail hour is followed by a seated </span></span></span><span style="color:black"><span style="font-family:calibri light\,sans-serif"><span style="font-size:11.0pt">dinner party</span></span></span> <span style="color:#1D2129"><span style="font-family:calibri light\,sans-serif"><span style="font-size:11.0pt">with a magnificent meal created by Chef Dave and Chef Kendric. One beer/wine selection will be included for each paid admission. A full cash bar will be available during the entirety of the event. A silent auction will feature all sorts of great finds such as jewelry from Bailey&#39\;s and other local Jewelers\, art\, &quot\;Cats&quot\; memorabilia\, sports collectibles\, gift certificates\, furniture\, pet items...all things that are the Cat&#39\;s Meow. You might even encounter a feline or two from the Broadway Musical\, &ldquo\;Cats&rdquo\;. Beare Garden Plantation Animal Rescue has saved over 450 cats and dogs in less than two years. Other community impacts include providing food\, litter\, medicine\, spay/neuter and veterinary care for animals in need in our community. Twelve counties have been served by BGP\, though the focus is on Pitt\, Greene and Lenoir Counties. All funds go directly to the care of our animals. We are a non-profit NC licensed rescue shelter under The Community Foundation of NC East\, a 501(c)3 charity (FEIN 56-2152669).</span></span></span><br />\n&nbsp\;<br />\n<br />\n&nbsp\;
LOCATION:Brook Valley Country Club 311 Oxford Rd Greenville\, NC 27858
UID:e.840.10999
SEQUENCE:3
DTSTAMP:20260420T015117Z
URL:https://business.greenvillenc.org/events/details/a-jellicle-celebration-of-felines-10999
END:VEVENT

END:VCALENDAR
