BEGIN:VCALENDAR
VERSION:2.0
PRODID:-//ChamberMaster//Event Calendar 2.0//EN
METHOD:PUBLISH
X-PUBLISHED-TTL:P3D
REFRESH-INTERVAL:P3D
CALSCALE:GREGORIAN
BEGIN:VEVENT
DTSTART:20160416T120000Z
DTEND:20160416T133000Z
X-MICROSOFT-CDO-ALLDAYEVENT:FALSE
SUMMARY:9th Annual Pirate Alumni Road Race and Fun Run
DESCRIPTION:The East Carolina Alumni Association presents the ninth annual Pirate Alumni Road Race and Fun Run! Join fellow alumni and friends as we race to raise funds for ECU scholarships. Runners of all ages will enjoy the 5K road race or one-mile fun run. \n\n\n\nThis year runners will be dusted in a rainbow of colors including PURPLE and GOLD! Be sure to read the FAQs to appropriately prepare!\n\n\n\nAbout Our Race\n\nAll proceeds from the Pirate Alumni Road Race and Fun Run benefit East Carolina Alumni Association scholarships. The alumni association annually awards scholarships to qualified undergraduates for the following academic year. To date\, the alumni association has awarded 224 scholarships totaling more than $300\,000.\n\n\n\nThe maximum number of participants is 700. Registration will close at 700 participants\, which may occur before race day. Advance registration is strongly encouraged. \n\n\n\n*Proceeds fund annual scholarships with any balance supporting the scholarship endowment.\n\n \nRace Course (map it)\n\nThe 5K race begins on Reade Circle adjacent to West End Dining Hall in uptown Greenville. It then turns east on Fifth Street and travels next to campus to just before Village Glen Apartments. Purple and gold haze dustings will be at the beginning and end of the race. Timing and chip scoring by Run the East. The fun run follows part of the same route. 5K results will be available at www.runtheeast.com.\n\n \n\nCheck-in\n\nEach participant will receive a packet containing an event T-shirt and number bib with timing chip at check-in\, which will begin at 7:00 a.m. on race day. Check-in can also be completed the day before the race (April 15) from 11:30 a.m. to 6:00 p.m. at U.B.E.\n\n \n\nAwards\n\nAwards will be presented to the first three male finishers overall\, to the first three female finishers overall\, and the top three male and female finishers in each of the age groups below. No awards will be presented to fun run participants.\n\n\n\nAge Categories for Both Sexes\n\n15 and under\n\n16-19\n\n20-29\n\n30-39\n\n40-49\n\n50-59\n\n60-69\n\n70 and over\n\n \nVolunteers\n\nDon't run? You can still be a part of the road race by volunteering. We need numerous volunteers to help with various tasks. See where you can help on VolunteerSpot.\n\n\n\nFurther Information\n\nFor more information\, call the Alumni Center at 252-ECU-GRAD (328-4723) or 800-ECU-GRAD.
X-ALT-DESC;FMTTYPE=text/html:The East Carolina Alumni Association presents the ninth annual Pirate Alumni Road Race and Fun Run! Join fellow alumni and friends as we race to raise funds for ECU scholarships. Runners of all ages will enjoy the 5K road race or one-mile fun run.&nbsp\;<br />\n<br />\nThis year runners will be dusted in a rainbow of colors including&nbsp\;PURPLE&nbsp\;and&nbsp\;GOLD!&nbsp\;Be sure to&nbsp\;<a href="http://piratealumni.com/2014RoadRaceFAQ">read the FAQs</a>&nbsp\;to appropriately prepare!<br />\n<br />\n<strong>About Our Race</strong><br />\nAll proceeds from the Pirate Alumni Road Race and Fun Run benefit East Carolina Alumni Association scholarships. The alumni association annually awards scholarships to qualified undergraduates for the following academic year. To date\, the alumni association has awarded 224 scholarships totaling more than $300\,000.<br />\n<br />\nThe maximum number of participants is 700. Registration will close at 700 participants\, which may occur before race day. Advance registration is strongly encouraged.&nbsp\;<br />\n<br />\n*Proceeds fund annual scholarships with any balance supporting the scholarship endowment.<br />\n&nbsp\;\n<div><strong>Race Course</strong>&nbsp\;(<a href="http://www.mapmyrun.com/routes/fullscreen/613331116/" target="_blank" title="">map it</a>)<br />\nThe 5K race begins on Reade Circle adjacent to West End Dining Hall in uptown Greenville. It then turns east on Fifth Street and travels next to campus to just before Village Glen Apartments. Purple and gold haze dustings will be at the beginning and end of the race. Timing and chip scoring by Run the East. The fun run follows part of the same route. 5K results will be available at&nbsp\;<a href="http://www.runtheeast.com./" target="_blank">www.runtheeast.com</a>.</div>\n\n<div>&nbsp\;</div>\n\n<div><strong>Check-in</strong><br />\nEach participant will receive a packet containing an event T-shirt and number bib with timing chip at check-in\, which will begin at 7:00 a.m. on race day. Check-in can also be completed the day before the race (April 15) from 11:30 a.m. to 6:00 p.m. at U.B.E.<br />\n&nbsp\;<br />\n<strong>Awards</strong><br />\nAwards will be presented to the first three male finishers overall\, to the first three female finishers overall\, and the top three male and female finishers in each of the age groups below. No awards will be presented to fun run participants.<br />\n<br />\n<strong>Age Categories for Both Sexes</strong><br />\n15 and under<br />\n16-19<br />\n20-29<br />\n30-39<br />\n40-49<br />\n50-59<br />\n60-69<br />\n70 and over</div>\n\n<div>&nbsp\;\n<div><strong>Volunteers</strong><br />\nDon&#39\;t run? You can still be a part of the road race by volunteering. We need numerous volunteers to help with various tasks. See where you can help on&nbsp\;<a href="http://vols.pt/3AhUaP" style="transition:0.3s\; color: rgb(72\, 42\, 127)\; text-decoration: none\; box-sizing: border-box\; background-color: transparent\; -webkit-transition: all 0.3s ease\;" target="_blank"><strong>VolunteerSpot</strong></a>.</div>\n\n<div><br />\n<strong>Further Information</strong><br />\nFor more information\, call the Alumni Center at 252-ECU-GRAD (328-4723) or 800-ECU-GRAD.</div>\n</div>\n
LOCATION:The start area is located at U.B.E. at the corner of Cotanche Street and Reade Circle.
UID:e.840.2454
SEQUENCE:3
DTSTAMP:20260424T100723Z
URL:https://business.greenvillenc.org/events/details/9th-annual-pirate-alumni-road-race-and-fun-run-04-16-2016-2454
END:VEVENT

END:VCALENDAR
