BEGIN:VCALENDAR
VERSION:2.0
PRODID:-//ChamberMaster//Event Calendar 2.0//EN
METHOD:PUBLISH
X-PUBLISHED-TTL:P3D
REFRESH-INTERVAL:P3D
CALSCALE:GREGORIAN
BEGIN:VEVENT
DTSTART:20190406T140000Z
DTEND:20190406T170000Z
X-MICROSOFT-CDO-ALLDAYEVENT:FALSE
SUMMARY:9th Annual JLG Touch-A-Truck
DESCRIPTION:The 9th Annual Touch-A-Truck event is scheduled for Saturday\, April 6th\, 2019 from 10am-1pm in the Greenville Mall parking lot (behind Belk) - with a SILENT HOUR FROM 10AM-11AM. \n\n\n\nLocal businesses bring vehicles and rigs of all sizes   from construction equipment and local EMS to police cars and fire trucks! Children of all ages are able to see\, touch\, and even climb on the equipment. We also have bounce houses\, face painting\, raffle prizes and food vendors set up   a truly great family event! \n\n\n\nTickets are $5 in ADVANCE and $7 at the DOOR. Tickets are required for all attendees 1 year old & older. You can purchase tickets from any Junior League member. You can also purchase tickets online at jlgreenvillenc.org.\n\n\n\nProceeds support the mission of The Junior League of Greenville\, NC.
X-ALT-DESC;FMTTYPE=text/html:<span style="color:rgb(29\, 33\, 41)\; font-family:system-ui\,-apple-system\,system-ui\,.sfnstext-regular\,sans-serif\; font-size:14px">The 9th Annual Touch-A-Truck event is scheduled for Saturday\, April 6th\, 2019 from 10am-1pm in the Greenville Mall parking lot (behind Belk) - with a SILENT HOUR FROM 10AM-11AM. </span><br />\n<br />\n<span style="color:rgb(29\, 33\, 41)\; font-family:system-ui\,-apple-system\,system-ui\,.sfnstext-regular\,sans-serif\; font-size:14px">Local businesses bring vehicles and rigs of all sizes &ndash\; from construction equipment and local EMS to police cars and fire trucks! Children of all ages are able to see\, touch\, and even climb on the equipment. We also have bounce houses\, face painting\, raffle prizes and food vendors set up &ndash\; a truly great family event! </span><br />\n<br />\n<span style="color:rgb(29\, 33\, 41)\; font-family:system-ui\,-apple-system\,system-ui\,.sfnstext-regular\,sans-serif\; font-size:14px">Tickets are $5 in ADVANCE and $7 at the DOOR. Tickets are required for all attendees 1 year old &amp\; older. You can purchase tickets from any Junior League member. You can also purchase tickets online at </span><a href="https://l.facebook.com/l.php?u=http%3A%2F%2Fjlgreenvillenc.org%2F%3Ffbclid%3DIwAR3foBcliKVSL5ydYaUVOBbvBBJtDRNwHHrpl9pqNdAcSLO_VxQ-uch3bwQ&amp\;h=AT3R1f671C7Qod9Hb_7K10jDS6JB1kPybbfq5Tu3MN16hrD_JRLTYyy6Mp6PFS4BHk0q_dgm3fFgCzkDtdMjJz8ZzddUFJiGtcwNGmQE7UF9zFrLsBWwuwBnWKW2AfZIPVHJ7g" rel="nofollow noopener" style="color: rgb(54\, 88\, 153)\; cursor: pointer\; text-decoration-line: none\; font-family: system-ui\, -apple-system\, system-ui\, &quot\;.SFNSText-Regular&quot\;\, sans-serif\; font-size: 14px\; white-space: pre-wrap\;" target="_blank">jlgreenvillenc.org.</a><br />\n<br />\n<span style="color:rgb(29\, 33\, 41)\; font-family:system-ui\,-apple-system\,system-ui\,.sfnstext-regular\,sans-serif\; font-size:14px">Proceeds support the mission of The Junior League of Greenville\, NC.</span>
LOCATION:Greenville Mall parking lot (behind Belk)
UID:e.840.9770
SEQUENCE:3
DTSTAMP:20260420T175223Z
URL:https://business.greenvillenc.org/events/details/9th-annual-jlg-touch-a-truck-9770
END:VEVENT

END:VCALENDAR
