BEGIN:VCALENDAR
VERSION:2.0
PRODID:-//ChamberMaster//Event Calendar 2.0//EN
METHOD:PUBLISH
X-PUBLISHED-TTL:P3D
REFRESH-INTERVAL:P3D
CALSCALE:GREGORIAN
BEGIN:VEVENT
DTSTART:20170407T153000Z
DTEND:20170407T210000Z
X-MICROSOFT-CDO-ALLDAYEVENT:FALSE
SUMMARY:8th Annual Village Classic Golf Tournament
DESCRIPTION:Join the Eastern Carolina Village & Farm Museum for the 8th Annual Village Golf Classic. There will be lunch provided before tee off and awards handed out after playing.
X-ALT-DESC;FMTTYPE=text/html:Join the Eastern Carolina Village &amp\; Farm Museum for the 8th Annual Village Golf Classic. There will be lunch provided before tee off and awards handed out after playing.
LOCATION:Brook Valley Country Club 311 Oxford Rd.\, Greenville\, NC
UID:e.840.8075
SEQUENCE:3
DTSTAMP:20260423T182322Z
URL:https://business.greenvillenc.org/events/details/8th-annual-village-classic-golf-tournament-8075
END:VEVENT

END:VCALENDAR
