BEGIN:VCALENDAR
VERSION:2.0
PRODID:-//ChamberMaster//Event Calendar 2.0//EN
METHOD:PUBLISH
X-PUBLISHED-TTL:P3D
REFRESH-INTERVAL:P3D
CALSCALE:GREGORIAN
BEGIN:VEVENT
DTSTART:20170401T140000Z
DTEND:20170401T170000Z
X-MICROSOFT-CDO-ALLDAYEVENT:FALSE
SUMMARY:7th Annual Touch-a-Truck - Junior Women's Association of Greenville\, NC
DESCRIPTION:Tractors! Trucks! And Buses! Oh my! The Junior Women's Association of Greenville proudly presents the 7th Annual Touch-A-Truck event for kids of all ages. Big Rigs\, emergency vehicles\, construction equipment and all the other big machines that make kids say "whoa!" will be on display. Families can also enjoy face painting\, bounce houses\, food\, and surprise special guests!
X-ALT-DESC;FMTTYPE=text/html:Tractors! Trucks! And Buses!&nbsp\;Oh&nbsp\;my! The Junior Women&#39\;s Association of Greenville proudly presents the 7th Annual Touch-A-Truck event for kids of all ages. Big Rigs\, emergency vehicles\, construction&nbsp\;equipment&nbsp\;and all the other big machines that make kids say &quot\;whoa!&quot\; will be on display. Families can also enjoy face painting\, bounce houses\,&nbsp\;food\,&nbsp\;and surprise special guests!
LOCATION:The Greenville Mall Parking Lot (between the Greenville Mall and Yadkin Bank)
UID:e.840.7854
SEQUENCE:3
DTSTAMP:20260423T164804Z
URL:https://business.greenvillenc.org/events/details/7th-annual-touch-a-truck-7854
END:VEVENT

END:VCALENDAR
