BEGIN:VCALENDAR
VERSION:2.0
PRODID:-//ChamberMaster//Event Calendar 2.0//EN
METHOD:PUBLISH
X-PUBLISHED-TTL:P3D
REFRESH-INTERVAL:P3D
CALSCALE:GREGORIAN
BEGIN:VEVENT
DTSTART:20191003T223000Z
DTEND:20191004T013000Z
X-MICROSOFT-CDO-ALLDAYEVENT:FALSE
SUMMARY:ECVC 54th Anniversary Banquet
DESCRIPTION:Each year\, the Eastern Carolina Vocational Center (ECVC) strives to increase awareness of the abilities of persons with disabilities and their contribution to the workforce at their annual banquet. The focus of the event is to promote the continued inclusion for people with disabilities within our community and to empower them to reach their full potential. Our event is not a fundraiser - the funds from sales of seats\, tables\, and sponsorships only cover the expenses of this grand event to help raise awareness and share our mission. This year\, ECVC proudly celebrates its 54th Anniversary.\n\n\n\nGuest Speaker: Kathy Buckley\n\nComedienne\, Writer/Producer\, Author\, Humanitarian\, Motivational Diversity Speaker\n\n\n\nKathy was diagnosed with a hearing loss from birth and encountered many social and learning struggles. Kathy describes that her early life was "one challenge after another."  She is a five-time American Comedy Awards Nominee as Best Stand-Up Female Comedienne and the winner of countless other awards for her work. She is also an actress\, writer and producer\, author\, humanitarian\, and one of the country's leading motivational speakers.\n\n\n\nKathy's television appearances include The Tonight Show\, Good Morning America\, CBS This Morning\, The Today Show\, Entertainment Tonight\, Extra\, Inside Edition\, CNN\, HBO\, her original PBS special\, ""NO Labels\, No Limits!" and E! Entertainment even named her one of the "World's Most Intriguing Women" in their original special and is the author of the heartfelt and hilarious book "If You Could Hear What I See."
X-ALT-DESC;FMTTYPE=text/html:<p><span style="font-size:12px"><span style="font-family:arial\,helvetica\,sans-serif"><span style="font-size:14px">Each year\, the Eastern Carolina Vocational Center (ECVC) strives to increase awareness of the abilities of persons with disabilities and their contribution to the workforce at their annual banquet. The focus of the event is to promote the continued inclusion for people with disabilities within our community and to empower them to reach their full potential. Our event is not a fundraiser - the funds from sales of seats\, tables\, and sponsorships only cover the expenses of this grand event to help raise awareness and share our mission. This year\, ECVC proudly celebrates its 54th Anniversary.</span><br />\n<br />\n<span style="font-size:14px"><strong>Guest Speaker:</strong> Kathy Buckley<br />\n<em>Comedienne\, Writer/Producer\, Author\, Humanitarian\, Motivational Diversity Speaker</em></span></span></span><br />\n<br />\n<span style="font-size:14px"><span style="font-family:avenir roman\,sans-serif">Kathy was diagnosed with a hearing loss from birth and encountered many social and learning struggles. Kathy describes that her early life was &ldquo\;one challenge after another.&rdquo\;&nbsp\; She&nbsp\;</span><span style="font-family:avenir roman\,sans-serif">is a five-time American Comedy Awards Nominee as Best Stand-Up Female Comedienne and the winner of countless other awards for her work. She is also an actress\, writer and producer\, author\, humanitarian\, and one of the country&rsquo\;s leading motivational speakers.</span><br />\n<br />\n<span style="font-family:arial\,helvetica\,sans-serif">Kathy&#39\;s television appearances include The Tonight Show\, Good Morning America\, CBS This Morning\, The Today Show\, Entertainment Tonight\, Extra\, Inside Edition\, CNN\, HBO\, her original PBS special\, &ldquo\;&rdquo\;NO Labels\, No Limits!&rdquo\; and E! Entertainment even named her one of the &quot\;World&rsquo\;s Most Intriguing Women&quot\; in their original special and is the author of the heartfelt and hilarious book &ldquo\;If You Could Hear What I See.&rdquo\;</span></span></p>\n
LOCATION:Rock Springs Center 4025 NC Highway 43 North Greenville\, NC 27834
UID:e.840.10771
SEQUENCE:3
DTSTAMP:20260420T103712Z
URL:https://business.greenvillenc.org/events/details/54th-anniversary-banquet-10771
END:VEVENT

END:VCALENDAR
