BEGIN:VCALENDAR
VERSION:2.0
PRODID:-//ChamberMaster//Event Calendar 2.0//EN
METHOD:PUBLISH
X-PUBLISHED-TTL:P3D
REFRESH-INTERVAL:P3D
CALSCALE:GREGORIAN
BEGIN:VEVENT
DTSTART:20180822T123000Z
DTEND:20180822T213000Z
X-MICROSOFT-CDO-ALLDAYEVENT:FALSE
SUMMARY:50 Free Haircut Back-to-School Event
DESCRIPTION:The Pitt Community College Barber Program at Altitude Academy will be holding it's 8th Annual 50 Free Haircut Event on Aug. 22\, providing free haircuts and school supplies to children. We will be accepting donations of backpacks and school supplies through Aug. 20. Donations can be dropped off at 3 locations around town: Altitude Academy at 3700 Charles Blvd.\, the PCC Greenville Center at 3107 S. Memorial Dr.\, and on PCC's Campus in Room 118 of the Vernon White Building.
X-ALT-DESC;FMTTYPE=text/html:<p>The Pitt Community College Barber Program at Altitude Academy will be holding it&rsquo\;s 8<sup>th</sup> Annual 50 Free Haircut Event on Aug. 22\, providing free haircuts and school supplies to children. We will be accepting donations of backpacks and school supplies through Aug. 20. Donations can be dropped off at 3 locations around town: Altitude Academy at 3700 Charles Blvd.\, the PCC Greenville Center at 3107 S. Memorial Dr.\, and on PCC&rsquo\;s Campus in Room 118 of the Vernon White Building.</p>\n
LOCATION:Altitude Academy 3700 Charles Blvd. Greenville\, NC
UID:e.840.8905
SEQUENCE:3
DTSTAMP:20260421T050341Z
URL:https://business.greenvillenc.org/events/details/50-free-haircut-back-to-school-event-8905
END:VEVENT

END:VCALENDAR
