BEGIN:VCALENDAR
VERSION:2.0
PRODID:-//ChamberMaster//Event Calendar 2.0//EN
METHOD:PUBLISH
X-PUBLISHED-TTL:P3D
REFRESH-INTERVAL:P3D
CALSCALE:GREGORIAN
BEGIN:VEVENT
DTSTART:20190209T230000Z
DTEND:20190210T020000Z
X-MICROSOFT-CDO-ALLDAYEVENT:FALSE
SUMMARY:4th Annual Dinner of Hope Fundraising Gala
DESCRIPTION:On February 9\, 2019\, Pitt County Coalition on Substance Abuse will host it's 4th annual Dinner of Hope at 400 Saint Andrews in Greenville\, NC. With underage drinking an ever-present problem and an increase in the number of deaths related to drug overdoses\, support from the community is essential to have a positive impact on Pitt County when addressing substance misuse issues. PCCSA seeks to educate the community about topics such as opioid addiction\, youth alcohol consumption\, and resources for addiction services. PCCSA members are leaders in Pitt County at addressing these issues in hopes of reducing the stigma associated with prevention and addiction.\n\nTickets for the Dinner of Hope are available via Eventbrite. General admission tickets will be available for $35 until sold out.\n\n\n\nWhen we work together\, we can make a difference! We hope to see you there! In the event that you cannot attend\, please consider donating to our coalition on our website.\n\nTicket Link: https://tinyurl.com/PCCSADinnerofHope\n\nEvent Link: https://www.facebook.com/events/364214334119271/\n\nPCCSA Website: https://www.pccsa.org/
X-ALT-DESC;FMTTYPE=text/html:<p style="margin-left:0px\; margin-right:0px">On February 9\, 2019\, Pitt County Coalition on Substance Abuse will host it&#39\;s 4th annual Dinner of Hope at 400 Saint Andrews in Greenville\, NC. With underage drinking an ever-present problem and an increase in the number of deaths related to drug overdoses\, support from the community is essential to have a positive impact on Pitt County when addressing substance misuse issues. PCCSA seeks to educate the community about topics such as opioid addiction\, youth alcohol consumption\, and resources for addiction services. PCCSA members are leaders in Pitt County at addressing these issues in hopes of reducing the stigma associated with prevention and addiction.</p>\n\n<p style="margin-left:0px\; margin-right:0px">Tickets for the Dinner of Hope are available via Eventbrite. General admission tickets will be available for $35 until sold out.<br />\n<br />\nWhen we work together\, we can make a difference! We hope to see you there! In the event that you cannot attend\, please consider donating to our coalition on our website.</p>\n\n<p>Ticket Link:&nbsp\;<a class="x_OWAAutoLink" href="https://tinyurl.com/PCCSADinnerofHope" id="LPlnk962556" rel="noopener noreferrer" target="_blank">https://tinyurl.com/PCCSADinnerofHope</a></p>\n\n<p>Event Link:&nbsp\;<a class="x_OWAAutoLink" href="https://www.facebook.com/events/364214334119271/" id="LPlnk488625" rel="noopener noreferrer" target="_blank">https://www.facebook.com/events/364214334119271/</a></p>\n\n<p>PCCSA Website:&nbsp\;<a class="x_OWAAutoLink" href="https://www.pccsa.org/" id="LPlnk542605" rel="noopener noreferrer" target="_blank">https://www.pccsa.org/</a></p>\n
LOCATION:400 St Andrews Dr Greenville\, NC 27834
UID:e.840.9749
SEQUENCE:3
DTSTAMP:20260420T202938Z
URL:https://business.greenvillenc.org/events/details/4th-annual-dinner-of-hope-fundraising-gala-9749
END:VEVENT

END:VCALENDAR
