BEGIN:VCALENDAR
VERSION:2.0
PRODID:-//ChamberMaster//Event Calendar 2.0//EN
METHOD:PUBLISH
X-PUBLISHED-TTL:P3D
REFRESH-INTERVAL:P3D
CALSCALE:GREGORIAN
BEGIN:VEVENT
DTSTART:20181006T140000Z
DTEND:20181006T200000Z
X-MICROSOFT-CDO-ALLDAYEVENT:FALSE
SUMMARY:3rd Annual Oktoberfest
DESCRIPTION:The Greenville Jaycees and the Council on Aging present the 3rd Annual Oktoberfest. Join us for your favorite German foods\, craft fair\, entertainment\, and local beer. Proceeds from this event will benefit the Council on Aging's Meals on Wheels Program to combat senior hunger.\n\n\n\nMeal tickets are $20. Each ticket buys your lunch and pays for two home delivered lunches as well.\n\n\n\nFor sponsor and vendor information\, send Lori a message or call her at 752-1717.
X-ALT-DESC;FMTTYPE=text/html:<span style="background-color:rgb(255\, 255\, 255)\; color:rgb(29\, 33\, 41)\; font-family:helvetica\,arial\,sans-serif\; font-size:14px">The Greenville Jaycees and the Council on Aging present the 3rd Annual Oktoberfest. Join us for your favorite German foods\, craft fair\, entertainment\, and local beer. Proceeds from this event will benefit the Council on Aging&#39\;s Meals on Wheels Program to combat senior hunger.</span><br />\n<br />\n<span style="background-color:rgb(255\, 255\, 255)\; color:rgb(29\, 33\, 41)\; font-family:helvetica\,arial\,sans-serif\; font-size:14px">Meal tickets are $20. Each ticket buys your lunch and pays for two home delivered lunches as well.</span><br />\n<br />\n<span style="color:rgb(29\, 33\, 41)\; font-family:helvetica\,arial\,sans-serif\; font-size:14px">For sponsor and vendor information\, send Lori a message or call her at 752-1717.</span>
LOCATION:
UID:e.840.8901
SEQUENCE:3
DTSTAMP:20260421T024600Z
URL:https://business.greenvillenc.org/events/details/3rd-annual-oktoberfest-8901
END:VEVENT

END:VCALENDAR
