BEGIN:VCALENDAR
VERSION:2.0
PRODID:-//ChamberMaster//Event Calendar 2.0//EN
METHOD:PUBLISH
X-PUBLISHED-TTL:P3D
REFRESH-INTERVAL:P3D
CALSCALE:GREGORIAN
BEGIN:VEVENT
DTSTART:20171014T140000Z
DTEND:20171014T200000Z
X-MICROSOFT-CDO-ALLDAYEVENT:FALSE
SUMMARY:2nd Annual Oktoberfest
DESCRIPTION:The Greenville Jaycees and the Council on Aging present the 2nd Annual Oktoberfest. Join us for your favorite German foods\, more than 30 local craft vendors\, live entertainment by Tar River Community Band\, Green grass Cloggers and Noelle Smith\, local beer by Uptown Brewing Company\, raffle\, and more. Proceeds from this event will benefit the Council on Aging's Meals on Wheels Program to combat senior hunger.\n\n\n\nMeal tickets are $20\, call 252-752-1717 to purchase tickets. Ticket will purchase your lunch and pay for two home delivered meals as well.
X-ALT-DESC;FMTTYPE=text/html:<span style="background-color:rgb(255\, 255\, 255)\; color:rgb(75\, 79\, 86)\; font-family:helvetica\,arial\,sans-serif\; font-size:14px">The Greenville Jaycees and the Council on Aging present the 2nd Annual Oktoberfest. Join us for your favorite German foods\, more than 30 local craft vendors\, live entertainment by Tar River Community Band\, Green grass Cloggers</span><span style="background-color:rgb(255\, 255\, 255)\; font-family:helvetica\,arial\,sans-serif\; font-size:14px">&nbsp\;and Noelle Smith\, local beer by Uptown Brewing Company</span><span style="background-color:rgb(255\, 255\, 255)\; font-family:helvetica\,arial\,sans-serif\; font-size:14px">\, raffle\, and more. Proceeds from this event will benefit the Council on Aging&#39\;s Meals on Wheels Progr</span><span style="background-color:rgb(255\, 255\, 255)\; color:rgb(75\, 79\, 86)\; font-family:helvetica\,arial\,sans-serif\; font-size:14px">am to combat senior hunger.</span><br />\n<br />\n<span style="background-color:rgb(255\, 255\, 255)\; color:rgb(75\, 79\, 86)\; font-family:helvetica\,arial\,sans-serif\; font-size:14px">Meal tickets are $20\, call 252-752-1717 to purchase tickets. Ticket will purchase your lunch and pay for two home delivered meals as well.</span>
LOCATION:Pitt County Council On Aging\, 4551 County Home Road\, Greenville\, NC 27858
UID:e.840.8660
SEQUENCE:3
DTSTAMP:20260423T092510Z
URL:https://business.greenvillenc.org/events/details/2nd-annual-oktoberfest-8660
END:VEVENT

END:VCALENDAR
