BEGIN:VCALENDAR
VERSION:2.0
PRODID:-//ChamberMaster//Event Calendar 2.0//EN
METHOD:PUBLISH
X-PUBLISHED-TTL:P3D
REFRESH-INTERVAL:P3D
CALSCALE:GREGORIAN
BEGIN:VEVENT
DTSTART:20180525T130000Z
DTEND:20180526T180000Z
X-MICROSOFT-CDO-ALLDAYEVENT:FALSE
SUMMARY:27th Annual Open House
DESCRIPTION:Come out and join us this Weekend for our 27th Annual Open House may 25 & 26\, 2018. The Yamaha Reps will be here with all of your favorite Yamaha motorcycles to ride Friday and Saturday\, and Adam Holbrook will be here Saturday with his Competition Trials Bike doing Stunt Shows throughout the day. Plus\, Free Lunch\, Vendors\, and Door Buster Specials.
X-ALT-DESC;FMTTYPE=text/html:<span style="background-color:rgb(255\, 255\, 255)\; color:rgb(75\, 79\, 86)\; font-family:helvetica\,arial\,sans-serif\; font-size:14px">Come out and join us this Weekend for our 27th Annual Open House may 25 &amp\; 26\, 2018. The Yamaha Reps will be here with all of your favorite Yamaha motorcycles to ride Friday and Saturday\, and Adam Holbrook will be here Saturday with his Competition Trials Bike doing Stunt Shows throughout the day. Plus\, Free Lunch\, Vendors\, and Door Buster Specials.</span>
LOCATION:1929 N. Memorial Drive Greenville NC\, 27834.
UID:e.840.8798
SEQUENCE:3
DTSTAMP:20260421T090130Z
URL:https://business.greenvillenc.org/events/details/27th-annual-open-house-8798
END:VEVENT

END:VCALENDAR
