BEGIN:VCALENDAR
VERSION:2.0
PRODID:-//ChamberMaster//Event Calendar 2.0//EN
METHOD:PUBLISH
X-PUBLISHED-TTL:P3D
REFRESH-INTERVAL:P3D
CALSCALE:GREGORIAN
BEGIN:VEVENT
DTSTART;VALUE=DATE:20201001
DTEND;VALUE=DATE:20201101
TRANSP:TRANSPARENT
X-MICROSOFT-CDO-ALLDAYEVENT:TRUE
SUMMARY:2020 VIRTUAL Ride For The Ribbon
DESCRIPTION:Are you ready for the first-ever VIRTUAL Ride For The Ribbon?!?! Things may look a little different this year\, but we're still hittin' the road to raise awareness for breast cancer! Ride 100 miles anywhere\, anytime October 1-31. Check out the website for registration and event details (https://ridefortheribbonnc.com/). Stand with us. Ride with us.\n\n\n\nRide for the Ribbon raises much-needed funds for Eastern NC breast cancer patients\, survivors and their families. From screenings and early detection programs\, to treatment assistance and patient pick-me-ups\, all proceeds raised are applied locally.
X-ALT-DESC;FMTTYPE=text/html:<span style="font-family:arial\,helvetica\,sans-serif"><span style="color:rgb(29\, 33\, 41)\; font-size:14px">Are you ready for the first-ever VIRTUAL Ride For The Ribbon?!?! Things may look a little different this year\, but we&rsquo\;re still hittin&rsquo\; the road to raise awareness for breast cancer! Ride 100 miles anywhere\, anytime October 1-31. Check out the website for registration and event details (</span><a href="https://ridefortheribbonnc.com/?fbclid=IwAR2G4FYeJWCZ0iCLLkuZZIwyyJyr0NMTam9WGVpX5V09vKDZ93g09qKsXPA" rel="nofollow noopener" style="color: rgb(56\, 88\, 152)\; cursor: pointer\; text-decoration-line: none\; font-family: Helvetica\, Arial\, sans-serif\; font-size: 14px\; white-space: pre-wrap\;" target="_blank">https://ridefortheribbonnc.com/</a><span style="color:rgb(29\, 33\, 41)\; font-size:14px">). Stand with us. Ride with us.</span></span><br />\n<br />\n<strong><span style="font-size:14px"><span style="font-family:arial\,helvetica\,sans-serif">Ride for the Ribbon</span></span></strong><span style="font-size:14px"><span style="font-family:arial\,helvetica\,sans-serif">&nbsp\;raises much-needed funds for Eastern NC breast cancer patients\, survivors and their families. From screenings and early detection programs\, to treatment assistance and patient pick-me-ups\, all proceeds raised are applied locally.&nbsp\;</span></span>
LOCATION:Anywhere you are!
UID:e.840.11443
SEQUENCE:3
DTSTAMP:20260419T162052Z
URL:https://business.greenvillenc.org/events/details/2020-virtual-ride-for-the-ribbon-11443
END:VEVENT

END:VCALENDAR
