BEGIN:VCALENDAR
VERSION:2.0
PRODID:-//ChamberMaster//Event Calendar 2.0//EN
METHOD:PUBLISH
X-PUBLISHED-TTL:P3D
REFRESH-INTERVAL:P3D
CALSCALE:GREGORIAN
BEGIN:VEVENT
DTSTART:20190216T230000Z
DTEND:20190217T040000Z
X-MICROSOFT-CDO-ALLDAYEVENT:FALSE
SUMMARY:2019 Greenville Heart Ball
DESCRIPTION:GREENVILLE NC HEART BALL\n\nSaturday\, February 16\, 2019 |\n\nHeart Ball supporters will help us to connect\, innovate\, influence and invest in advancing our efforts to change health outcomes as they relate to heart disease and stroke.\n\n\n\nThe Greenville Heart Ball celebrates these efforts to build a foundation of health in our community and ensure everyone lives a longer healthier life. The evening festivities will include dinner\, an opportunity to Open Your Heart and further support the mission and an exciting live auction.  Vidant Health and Vidant Medical Center will serve as this year's presenting sponsor and will help us pay tribute to the many caregivers\, providers\, clinicians and families who help each and every heart and stroke survivor lead a quality & healthy life throughout Eastern NC\n\n \n\nSaturday\, February 16\, 2019 \n\n6:00 pm Cocktail Reception\n\n7:30 pm Ballroom Opens\n\n7:45 pm Dinner and Program\n\n8:30 pm Live Auction & Dessert\n\n8:45 pm Open Your Heart Moment\n\n9:00 pm SPARE CHANGE BAND!\n\n\n\nTickets are $125 and Tables are $1\,500!  rachel.urban@heart.org for more details and ways to join us!
X-ALT-DESC;FMTTYPE=text/html:<strong>GREENVILLE NC HEART BALL</strong><br />\n<strong>Saturday\, February 16\, 2019 |</strong><br />\nHeart Ball supporters will help us to connect\, innovate\, influence and invest in advancing our efforts to change health outcomes as they relate to heart disease and stroke.<br />\n<br />\nThe Greenville Heart Ball celebrates these efforts to build a foundation of health in our community and ensure everyone lives a longer healthier life. The evening festivities will include dinner\, an opportunity to Open Your Heart and further support the mission and an exciting live auction.&nbsp\; Vidant Health and Vidant Medical Center will serve as this year&rsquo\;s presenting sponsor and will help us pay tribute to the many caregivers\, providers\, clinicians and families who help each and every heart and stroke survivor lead a quality &amp\; healthy life throughout Eastern NC<br />\n&nbsp\;<br />\n<strong>Saturday\, February 16\, 2019</strong>&nbsp\;<br />\n6:00 pm Cocktail Reception<br />\n7:30 pm Ballroom Opens<br />\n7:45 pm Dinner and Program<br />\n8:30 pm Live Auction &amp\; Dessert<br />\n8:45 pm Open Your Heart Moment<br />\n9:00 pm SPARE CHANGE BAND!<br />\n<br />\nTickets are $125 and Tables are $1\,500!&nbsp\; rachel.urban@heart.org for more details and ways to join us!
LOCATION:The Greenville Hilton Ballroom
UID:e.840.9752
SEQUENCE:3
DTSTAMP:20260420T202948Z
URL:https://business.greenvillenc.org/events/details/2019-greenville-heart-ball-9752
END:VEVENT

END:VCALENDAR
