BEGIN:VCALENDAR
VERSION:2.0
PRODID:-//ChamberMaster//Event Calendar 2.0//EN
METHOD:PUBLISH
X-PUBLISHED-TTL:P3D
REFRESH-INTERVAL:P3D
CALSCALE:GREGORIAN
BEGIN:VEVENT
DTSTART:20190302T140000Z
DTEND:20190302T210000Z
X-MICROSOFT-CDO-ALLDAYEVENT:FALSE
SUMMARY:2019 Eastern Home & Living Expo
DESCRIPTION:The Eastern home & Living Show is the largest home & garden show in eastern NC. This year's show takes place on Saturday March 2nd from 9-4 pm. Join us for a day of fun and get face to face with industry professionals.
X-ALT-DESC;FMTTYPE=text/html:<span style="font-family:verdana">The Eastern home &amp\; Living Show is the largest home &amp\; garden show in eastern NC. This year&#39\;s show takes place on Saturday March 2nd from 9-4 pm. Join us for a day of fun and get face to face with industry professionals.</span>
LOCATION:Greenville Convention Center
UID:e.840.9753
SEQUENCE:3
DTSTAMP:20260420T190818Z
URL:https://business.greenvillenc.org/events/details/2019-eastern-home-living-expo-9753
END:VEVENT

END:VCALENDAR
