BEGIN:VCALENDAR
VERSION:2.0
PRODID:-//ChamberMaster//Event Calendar 2.0//EN
METHOD:PUBLISH
X-PUBLISHED-TTL:P3D
REFRESH-INTERVAL:P3D
CALSCALE:GREGORIAN
BEGIN:VEVENT
DTSTART:20180816T130000Z
DTEND:20180816T160000Z
X-MICROSOFT-CDO-ALLDAYEVENT:FALSE
SUMMARY:2018 Youth Summer Camps
DESCRIPTION:Summer youth ARt sessions have started!  Sign up for one day or all 4!  Different projects each day with extra for fun!  9am-12pm or 1pm-3:30 Tuesday through Friday
X-ALT-DESC;FMTTYPE=text/html:Summer youth ARt sessions have started!&nbsp\; Sign up for one day or all 4!&nbsp\; Different projects each day with extra for fun!&nbsp\; 9am-12pm or 1pm-3:30 Tuesday through Friday
LOCATION:AR Workshop Greenville NC 809 Red Banks Rd
UID:e.840.8869
SEQUENCE:3
DTSTAMP:20260421T050200Z
URL:https://business.greenvillenc.org/events/details/2018-youth-summer-camps-08-16-2018-8869
END:VEVENT

END:VCALENDAR
