BEGIN:VCALENDAR
VERSION:2.0
PRODID:-//ChamberMaster//Event Calendar 2.0//EN
METHOD:PUBLISH
X-PUBLISHED-TTL:P3D
REFRESH-INTERVAL:P3D
CALSCALE:GREGORIAN
BEGIN:VEVENT
DTSTART:20170427T160000Z
DTEND:20170427T210000Z
X-MICROSOFT-CDO-ALLDAYEVENT:FALSE
SUMMARY:2017 University of Mount Olive at Washington's Community & Career Fair
DESCRIPTION:The University of Mount Olive at Washington will be the site for the 2017 UMO Community & Career Fair on Thursday\, April 27th from 12:00PM - 5:00PM.  The campus has become a focal point for community activities and this event will bring Students\, Alumni\, and the Community together for information on our degree programs\, local organizations' services and career opportunities in our local communities.  For more information\, please call 252-940-0146.\n\n\n\nIf your organization is interested in participating as a vendor\, please RSVP: to Lita Ward at lward@umo.edu.
X-ALT-DESC;FMTTYPE=text/html:<span style="font-family:times new roman\,serif"><span style="font-size:12.0pt">The University of Mount Olive at Washington will be the site for the 2017 UMO Community &amp\; Career Fair on Thursday\, April 27th from 12:00PM&nbsp\;- 5:00PM.&nbsp\; The campus has become a focal point for community activities and this event will bring Students\, Alumni\, and the Community together for information on our degree programs\, local organizations&rsquo\; services and career opportunities in our local communities.&nbsp\; For more information\, please call 252-940-0146.</span></span><br />\n<br />\n<strong><span style="font-family:times new roman\,serif"><span style="font-size:12.0pt">If your organization is interested in participating as a vendor\, please RSVP: to Lita Ward at <a href="mailto:lward@umo.edu">lward@umo.edu</a>.</span></span></strong><br />\n&nbsp\;
LOCATION:University of Mount Olive at Washington 4525 US HWY 264 West Washington\, NC
UID:e.840.8069
SEQUENCE:3
DTSTAMP:20260423T181718Z
URL:https://business.greenvillenc.org/events/details/2017-umo-community-career-fair-8069
END:VEVENT

END:VCALENDAR
